BEGIN:VCALENDAR
VERSION:2.0
PRODID:-//wp-events-plugin.com//7.2.3.1//EN
TZID:Europe/Warsaw
X-WR-TIMEZONE:Europe/Warsaw
BEGIN:VEVENT
UID:44532@night4u.pl
DTSTART;TZID=Europe/Warsaw:20200201T210000
DTEND;TZID=Europe/Warsaw:20200201T210000
DTSTAMP:20200131T231233Z
URL:https://night4u.pl/wydarzenia/old-school-party/
SUMMARY:OLD SCHOOL PARTY!
DESCRIPTION:Old School w Zamkowej! \n\nTego wieczoru z głośników poleci 
 najlepszy mix starych hitów zaprezentowany przez DJ-a Tomka Schaba i Marc
 ina Wilka. \nJeżeli lubicie muzykę dawnych lat to nie ma lepszego miejsc
 a niż Zamkowa! \nWszystkich fanów przebojów ubiegłych dekad zapraszamy
  do nas! \nBawcie się z nami do wiekopomnych\, niezapomnianych muzycznych
  perełek\, a gdy od szaleństwa na parkiecie zaschnie Wam w gardłach to 
 mamy dobrze zaopatrzony bar. \n\nZapraszamy na tą małą wycieczkę w prz
 eszłość. Czekamy od 21!\n\nRezerwacje: 41 344 72 26.\n\nPamiętajcie\, 
 że możecie również zrobić rezerwację on-line! Wystarczy pod naszym z
 djęciem kliknąć przycisk "zarezerwuj teraz"\nDo zobaczenia!
ATTACH;FMTTYPE=image/jpeg:https://night4u.pl/wp-content/uploads/2020/01/14
 3726_image_82788212_3254161671265231_4687603027127828480_n.jpg
CATEGORIES:świętokrzyskie
LOCATION:Klub Zamkowa\, Zamkowa 2\, Kielce\, 25-009\, Poland
GEO:50.868771;20.625644
X-APPLE-STRUCTURED-LOCATION;VALUE=URI;X-ADDRESS=Zamkowa 2\, Kielce\, 25-009
 \, Poland;X-APPLE-RADIUS=100;X-TITLE=Klub Zamkowa:geo:50.868771,20.625644
END:VEVENT
BEGIN:VTIMEZONE
TZID:Europe/Warsaw
X-LIC-LOCATION:Europe/Warsaw
BEGIN:STANDARD
DTSTART:20191027T020000
TZOFFSETFROM:+0200
TZOFFSETTO:+0100
TZNAME:CET
END:STANDARD
END:VTIMEZONE
END:VCALENDAR