BEGIN:VCALENDAR
VERSION:2.0
PRODID:-//wp-events-plugin.com//7.2.3.1//EN
TZID:Europe/Warsaw
X-WR-TIMEZONE:Europe/Warsaw
BEGIN:VEVENT
UID:14366@night4u.pl
DTSTART;TZID=Europe/Warsaw:20190518T160000
DTEND;TZID=Europe/Warsaw:20190518T221000
DTSTAMP:20190430T142547Z
URL:https://night4u.pl/wydarzenia/olga-drenda-psychocukier-x-trypkosmopoli
 tania36-klangor-poleski/
SUMMARY:Olga Drenda/Psychocukier/X/Tryp:Kosmopolitania36/Klangor Poleski
DESCRIPTION:Kosmopolitania na orbicie Łodzi po raz 36 już pojawi się 18 
 maja 2019. Tym razem zagości w Poleskim Ośrodku Sztuki. W otwartej przes
 trzeni\, i miejmy nadzieję przy sprzyjającej aurze [ ponieważ marzeniem
  naszym jest koncert pod nagim niebem] Na początku  spotkanie z OLGĄ DRE
 NDĄ autorką książki wydanej w zeszłym roku przez Wydawnictwo Karakter
   "Wyroby. Pomysłowość wokół nas". Po spotkaniu odbędą się koncert
 y zespołów PSYCHOCUKIER\, X i TRYP. Zapraszamy już od wczesnego popołu
 dnia\,będzie można zakupić książkę "Wyroby" i poprosić o autograf a
 utorkę\, będą też do kupienia najnowsze produkcje PSYCHOCUKRA I TRYPA 
 i wielu innych projektów związanych z dystrybucją KOSMOPOLITANIA MEDJAT
 EKA\n\nBILETY: 30 PLN / DO KUPIENIA W PRZEDSPRZEDAŻY W POS ORAZ W DNIU SP
 OTKANIA NA MIEJSCU
ATTACH;FMTTYPE=image/jpeg:https://night4u.pl/wp-content/uploads/2019/04/35
 814_image_58445033_2346709298713320_1599725599495028736_o.jpg
CATEGORIES:łódzkie
LOCATION:Poleski Ośrodek Sztuki\, Krzemieniecka 2A\, Łódź\, 94-030\, Po
 land
GEO:51.755539;19.424412
X-APPLE-STRUCTURED-LOCATION;VALUE=URI;X-ADDRESS=Krzemieniecka 2A\, Łódź\
 , 94-030\, Poland;X-APPLE-RADIUS=100;X-TITLE=Poleski Ośrodek Sztuki:geo:5
 1.755539,19.424412
END:VEVENT
BEGIN:VTIMEZONE
TZID:Europe/Warsaw
X-LIC-LOCATION:Europe/Warsaw
BEGIN:DAYLIGHT
DTSTART:20190331T030000
TZOFFSETFROM:+0100
TZOFFSETTO:+0200
TZNAME:CEST
END:DAYLIGHT
END:VTIMEZONE
END:VCALENDAR