BEGIN:VCALENDAR
VERSION:2.0
PRODID:-//wp-events-plugin.com//7.2.3.1//EN
TZID:Europe/Warsaw
X-WR-TIMEZONE:Europe/Warsaw
BEGIN:VEVENT
UID:28760@night4u.pl
DTSTART;TZID=Europe/Warsaw:20191017T200000
DTEND;TZID=Europe/Warsaw:20191017T230000
DTSTAMP:20191017T094542Z
URL:https://night4u.pl/wydarzenia/olga-polikowska-klub-bunkier-17-10-2019/
SUMMARY:Olga Polikowska | Klub Bunkier 17.10.2019
DESCRIPTION:Olga Polikowska – wokalistka i autorka tekstów\, przez dzien
 nikarzy i krytyków muzycznych okrzyknięta debiutem roku 2018. \n\nJej pi
 erwszy singiel „Ulatuje” poprzedzający debiutancką Ep’kę\, porywa
  muzyczną świeżością. \nPosłuchaj: https://www.youtube.com/watch?v=S
 oo4grRxmG4\n\n„Ulatuje” to nowoczesna elektronika\, przyjemnie unoszą
 ce się bity z wyraźnymi wpływami lat 80-tych połączone subtelnym i zm
 ysłowym wokalem Olgi.\nSingiel został wyprodukowany przez Łukasza Maron
 a (Flemings) oraz Szatta (m.in. zespół Kroki) i namieszał na rynku do t
 ego stopnia\, iż Olga została określona największą nadzieją eklektyc
 znego popu w Polsce.\n\nOlga ma za sobą koncerty na najważniejszych wyda
 rzeniach muzycznych\, takich jak Enea Spring Break Festival w Poznaniu\, w
 ystęp na Sofar Sounds Warsaw oraz Slot Art. Festival.\n\nMuzyka\, którą
  prezentuje artystka to elektroniczne brzmienia\, przeplatane subtelnym ko
 biecym wokalem – porównywalne do twórczości Jessie Ware.\n\n\nObserwu
 j Olgę:\nFacebook: https://www.facebook.com/polikowskaolga/\nInstagram: h
 ttps://www.instagram.com/olgapolikowska/\n\n\nBilety: 15 w przedsprzedaży
 \, 20 w dniu koncertu\nhttps://goingapp.pl/evt/2158061/olga-polikowska-klu
 b-bunkier-17102019
ATTACH;FMTTYPE=image/jpeg:https://night4u.pl/wp-content/uploads/2019/09/66
 520_image_70744796_2411131089099305_835000199926513664_o.jpg
CATEGORIES:pomorskie
LOCATION:Bunkier\, Olejarna 3\, Gdansk\, 80-843\, Poland
GEO:54.35446;18.65466
X-APPLE-STRUCTURED-LOCATION;VALUE=URI;X-ADDRESS=Olejarna 3\, Gdansk\, 80-84
 3\, Poland;X-APPLE-RADIUS=100;X-TITLE=Bunkier:geo:54.35446,18.65466
END:VEVENT
BEGIN:VTIMEZONE
TZID:Europe/Warsaw
X-LIC-LOCATION:Europe/Warsaw
BEGIN:DAYLIGHT
DTSTART:20190331T030000
TZOFFSETFROM:+0100
TZOFFSETTO:+0200
TZNAME:CEST
END:DAYLIGHT
END:VTIMEZONE
END:VCALENDAR