BEGIN:VCALENDAR
VERSION:2.0
PRODID:-//wp-events-plugin.com//7.2.3.1//EN
TZID:Europe/Warsaw
X-WR-TIMEZONE:Europe/Warsaw
BEGIN:VEVENT
UID:10431@night4u.pl
DTSTART;TZID=Europe/Warsaw:20190319T210000
DTEND;TZID=Europe/Warsaw:20190320T030000
DTSTAMP:20190318T195957Z
URL:https://night4u.pl/wydarzenia/olimpowe-wtorki/
SUMMARY:Olimpowe Wtorki
DESCRIPTION:Zapraszamy na imprezę wtorkową \;)! \nWódka GORBATSCHOW będ
 zie w ten dzień królować:):) !\n "2 kieliszki w cenie 1 "
ATTACH;FMTTYPE=image/jpeg:https://night4u.pl/wp-content/uploads/2019/03/27
 530_image_54435008_1689337641168707_9210555996177432576_n.jpg
CATEGORIES:śląskie
LOCATION:Olimp Club\, Mikołowska 72C\, Katowice\, 40-065\, Poland
GEO:50.24974;19.00614
X-APPLE-STRUCTURED-LOCATION;VALUE=URI;X-ADDRESS=Mikołowska 72C\, Katowice\
 , 40-065\, Poland;X-APPLE-RADIUS=100;X-TITLE=Olimp Club:geo:50.24974,19.00
 614
END:VEVENT
BEGIN:VTIMEZONE
TZID:Europe/Warsaw
X-LIC-LOCATION:Europe/Warsaw
BEGIN:STANDARD
DTSTART:20181028T020000
TZOFFSETFROM:+0200
TZOFFSETTO:+0100
TZNAME:CET
END:STANDARD
END:VTIMEZONE
END:VCALENDAR