BEGIN:VCALENDAR
VERSION:2.0
PRODID:-//wp-events-plugin.com//7.2.3.1//EN
TZID:Europe/Warsaw
X-WR-TIMEZONE:Europe/Warsaw
BEGIN:VEVENT
UID:33012@night4u.pl
DTSTART;TZID=Europe/Warsaw:20191026T210000
DTEND;TZID=Europe/Warsaw:20191027T050000
DTSTAMP:20250901T211231Z
URL:https://night4u.pl/wydarzenia/omg-im-so-retro-sobota-w-zamkowej/
SUMMARY:OMG! I'm so retro! Sobota w Zamkowej
DESCRIPTION:Czy Wy też czujecie się tak bardzo retro jak my?\nMamy nadzie
 ję\, że tak i że spędzicie z nami kolejną sobotę w retro klimacie &l
 t\;3 Zagra dla Was DJ Tomek Schab!\n\nUwaga! Na barze będzie obowiązywa
 ć tajne hasło! (prawie tajne :D)\npowiedzcie do barmana: &quot\;I&#039\;
 m so retro&quot\; i zobaczcie co się stanie :D\n\nDo zobaczenia na parkie
 cie!
ATTACH;FMTTYPE=image/jpeg:https://night4u.pl/wp-content/uploads/2019/10/81
 197_image_73153815_3032968593384541_3459388508144140288_o.jpg
CATEGORIES:świętokrzyskie
LOCATION:Klub Zamkowa\, Zamkowa 2\, Kielce\, 25-009\, Poland
GEO:50.868771;20.625644
X-APPLE-STRUCTURED-LOCATION;VALUE=URI;X-ADDRESS=Zamkowa 2\, Kielce\, 25-009
 \, Poland;X-APPLE-RADIUS=100;X-TITLE=Klub Zamkowa:geo:50.868771,20.625644
END:VEVENT
BEGIN:VTIMEZONE
TZID:Europe/Warsaw
X-LIC-LOCATION:Europe/Warsaw
BEGIN:DAYLIGHT
DTSTART:20190331T030000
TZOFFSETFROM:+0100
TZOFFSETTO:+0200
TZNAME:CEST
END:DAYLIGHT
BEGIN:STANDARD
DTSTART:20191027T020000
TZOFFSETFROM:+0200
TZOFFSETTO:+0100
TZNAME:CET
END:STANDARD
END:VTIMEZONE
END:VCALENDAR