BEGIN:VCALENDAR
VERSION:2.0
PRODID:-//wp-events-plugin.com//7.2.3.1//EN
TZID:Europe/Warsaw
X-WR-TIMEZONE:Europe/Warsaw
BEGIN:VEVENT
UID:42779@night4u.pl
DTSTART;TZID=Europe/Warsaw:20200116T223000
DTEND;TZID=Europe/Warsaw:20200117T040000
DTSTAMP:20200116T044716Z
URL:https://night4u.pl/wydarzenia/on-thursday-i-wear-black-by-all-in-uj-pr
 ozak-2-0/
SUMMARY:On Thursday I wear Black by All In UJ #Prozak 2.0
DESCRIPTION:Zaczynamy cykl „On Thursday I wear…” \nW styczniu naszym 
 kolorem jest... BLACK\nDlatego ubierajcie swoje czarne rzeczy\, zabierajci
 e ekipę i przychodźcie do Prozak 2.0 w czwartek 16 stycznia.\nCzekają n
 a was jelenie promocje na barze:\n🖤Jägermaister 20ml = 4zł\n🖤Jäge
 rbomba = 10 zł\n🖤Jägermaister 40ml + Cola = 10 zł\n🖤Jägermaister
  40ml + 7up = 10 zł\n🖤Jägermaister 40ml + Apple Juice = 10 zł\n\nPro
 mocje dla tych co mają na sobie coś czarnego! \nKlikajcie WEZMĘ UDZIAŁ
  w wydarzeniu i do zobaczenia w Prozak 2.0 \nTAX: FREE HASŁO ALL IN UJ
ATTACH;FMTTYPE=image/jpeg:https://night4u.pl/wp-content/uploads/2020/01/13
 5765_image_81629886_1693312957478012_7812129947568308224_o.jpg
CATEGORIES:małopolskie
LOCATION:Prozak 2.0\, Plac Dominikański 6\, Kraków\, 31-032\, Poland
GEO:50.058986;19.938203
X-APPLE-STRUCTURED-LOCATION;VALUE=URI;X-ADDRESS=Plac Dominikański 6\, Krak
 ów\, 31-032\, Poland;X-APPLE-RADIUS=100;X-TITLE=Prozak 2.0:geo:50.058986,
 19.938203
END:VEVENT
BEGIN:VTIMEZONE
TZID:Europe/Warsaw
X-LIC-LOCATION:Europe/Warsaw
BEGIN:STANDARD
DTSTART:20191027T020000
TZOFFSETFROM:+0200
TZOFFSETTO:+0100
TZNAME:CET
END:STANDARD
END:VTIMEZONE
END:VCALENDAR