BEGIN:VCALENDAR
VERSION:2.0
PRODID:-//wp-events-plugin.com//7.2.3.1//EN
TZID:Europe/Warsaw
X-WR-TIMEZONE:Europe/Warsaw
BEGIN:VEVENT
UID:22949@night4u.pl
DTSTART;TZID=Europe/Warsaw:20190811T210000
DTEND;TZID=Europe/Warsaw:20190811T210000
DTSTAMP:20190724T170104Z
URL:https://night4u.pl/wydarzenia/ona-tanczy-dla-mnie-2/
SUMMARY:Ona Tańczy Dla Mnie !
DESCRIPTION:Ona tu jest ... \nI tańczy dla mnie ❗\n\n????????????\n\n⭐
 ️ Państwo młodzi już na samym wejściu przywitają gości poczęstunk
 iem w postaci wiejskiego stołu oraz pyszną wódeczką weselną i szampan
 em!\n\nATRAKCJE przygotowane dla Państwa w WESELU to m.in:\n✔️DJ & WO
 DZIREJ \n✔️NAJLEPSZE ZABAWY WESELNE \n✔️WIELE INYCH!\n\n⭐️ ⭐
  Imprezę poprowadzi DJ & WODZIREJ⭐️ ⭐\n\n❤️ Kultowe oczepiny o 
 godzinie 1.00 ❤️\n♥♥♥♥♥♥♥♥♥♥♥♥♥♥\n????????
 ??????\n??????????????\nGRAMY od 21.00 do ostatniego gościa!\n▬▬▬
 ▬▬▬▬▬▬▬▬▬▬▬▬▬▬▬▬▬▬▬▬▬▬▬▬\n
 \nRezerwacje miejsc i biletów www.dyskotekiweselne.pl\nTylko u nas Wesela
  bez koperty i krawatów!\n\nREZERWACJE BILETÓW & STOLIKÓW: +48 791 998 
 805\n\nNa imprezie obowiązuje wygodny nieformalny strój taki jak dla Cie
 bie jest wygodny - jednak bez elementów sportowych m.in dresów\, czapek 
 itp. Prosimy zostaw\, to w domu lub zabierz na działkę ✌️
ATTACH;FMTTYPE=image/jpeg:https://night4u.pl/wp-content/uploads/2019/07/54
 235_image_67172256_2303078176596764_9021405387353489408_o.jpg
CATEGORIES:lubuskie
LOCATION:Dyskoteka Wesele Gorzów Wielkopolski\, Obotrycka 9\, Gorzów Wiel
 kopolski\, 66-400\, Poland
GEO:52.73095;15.24143
X-APPLE-STRUCTURED-LOCATION;VALUE=URI;X-ADDRESS=Obotrycka 9\, Gorzów Wielk
 opolski\, 66-400\, Poland;X-APPLE-RADIUS=100;X-TITLE=Dyskoteka Wesele Gorz
 ów Wielkopolski:geo:52.73095,15.24143
END:VEVENT
BEGIN:VTIMEZONE
TZID:Europe/Warsaw
X-LIC-LOCATION:Europe/Warsaw
BEGIN:DAYLIGHT
DTSTART:20190331T030000
TZOFFSETFROM:+0100
TZOFFSETTO:+0200
TZNAME:CEST
END:DAYLIGHT
END:VTIMEZONE
END:VCALENDAR