BEGIN:VCALENDAR
VERSION:2.0
PRODID:-//wp-events-plugin.com//7.2.3.1//EN
TZID:Europe/Warsaw
X-WR-TIMEZONE:Europe/Warsaw
BEGIN:VEVENT
UID:30296@night4u.pl
DTSTART;TZID=Europe/Warsaw:20191012T230000
DTEND;TZID=Europe/Warsaw:20191013T050000
DTSTAMP:20191003T235052Z
URL:https://night4u.pl/wydarzenia/one-night-in-sopot-pres-kasst-live/
SUMMARY:One Night In Sopot pres. Kas:st live
DESCRIPTION:Klub Sfinks700 prezentuje:\n☾One Night In Sopot w/ Kas:st liv
 e\n\n\nMożesz nie wierzyć\, jeśli tego nie widziałeś. Możesz nie wie
 rzyć jeśli tego nie przeżyłaś. Ale łatwo to naprawić. Wystarczy odp
 owiedzieć na zew\, który co miesiąc rozchodzi się po Sopocie. Wystarcz
 y wsłuchać się w nieuchwytne dla większości dzwony\, które rozbrzmie
 wają\, gdy w świątyni rozpoczyna się msza. Miarowe dudnienie\, które 
 bardziej czuć niż słychać. Zawsze wtedy\, gdy nadchodzi ta jedna\, jed
 yna\, dziwna noc - One Night in Sopot.\n\nNa głównej scenie wysublimowan
 e\, doskonale wyselekcjonowane techno\, miarowy rytm  obudowany elektronic
 znym szkieletem od którego iskrzy powietrze. Kas:st\, mistrzowie hipnotyc
 znego tempa przeprowadzą Cię przez muzyczną mszę tak\, że będziesz c
 hcieć więcej. Doskonałe wyczucie atmosfery i odważna\, nietuzinkowa se
 lekcja - nie zejdziesz z parkietu nawet jeśli chcesz. O resztę ceremonii
  zadba Marboc i Cranz.\n\nNa fontannie trochę spokojniej - eteryczny\, po
 mpujący house da odetchnąć na chwilę od kawalkady dźwięków z maina 
 i pozwoli odpłynąć do spokojnej\, słonecznej krainy czystej przyjemno
 ści.\n\nMożesz mówić\, że to nie dla Ciebie\, że nie chcesz próbowa
 ć. Ale możesz też przyjść\, i zobaczyć\, że to nieprawda. Że ta je
 dna\, jedyna noc czeka na Ciebie tak jak my\, co miesiąc na nią.\n\nhttp
 ://soundcloud.com/kasstechno\nhttp://www.residentadvisor.net/dj/kasst\n\n\
 n🌑🌘🌗🌖🌓🌒🌑\n\n\n➤MAIN ONE NIGHT IN SOPOT \n☄ Kas:st
  live (Flyance Records)\n☄ Marboc\n☄ Cranz\n\n\n➤ Fountain:\n♔ Cre
 amer - Tomasz Kramer\n♔ KEMOT \n\n\n➤➤Muzycznie: TECHNO / Tech house
  / deep / house \n\n☆☆☆\n\n\n▬▬▬▬▬▬▬▬▬▬▬▬▬
 ▬▬▬▬▬▬▬▬▬▬▬▬▬▬▬▬▬\n\n\nTERMIN – 12.10.
 2019\nSTART - 23:00 \n\nWSTĘP :\nprzedsprzedaż - 25PLN Biletomat.pl - bi
 lety online\nw klubie w dzień imprezy - 29PLN\n\n\n\n• Info:\n☞ http:
 //sfinks700.com/\n\n\nS.F.I.N.K.S. 700\nAleja Franciszka Mamuszki 1\n81-71
 8 Sopot\n\nWstęp od 21 lat\n*z wyłączeniem studentów\n\n\n\n• Patron
 at:\n\nMuno.pl\nwww.muno.pl\n\nTrójmiasto.pl\nwww.trojmiasto.pl\n\nart: D
 etoxic\n▬▬▬▬▬▬▬▬▬▬▬▬▬▬▬▬▬▬▬▬▬▬
 ▬▬▬▬▬▬▬▬
ATTACH;FMTTYPE=image/jpeg:https://night4u.pl/wp-content/uploads/2019/10/69
 863_image_72268044_3715956531763285_5708293574001426432_o.jpg
CATEGORIES:pomorskie
LOCATION:Sfinks700\, Mamuszki 1\, Sopot\, 81-718\, Poland
GEO:54.448468;18.567313
X-APPLE-STRUCTURED-LOCATION;VALUE=URI;X-ADDRESS=Mamuszki 1\, Sopot\, 81-718
 \, Poland;X-APPLE-RADIUS=100;X-TITLE=Sfinks700:geo:54.448468,18.567313
END:VEVENT
BEGIN:VTIMEZONE
TZID:Europe/Warsaw
X-LIC-LOCATION:Europe/Warsaw
BEGIN:DAYLIGHT
DTSTART:20190331T030000
TZOFFSETFROM:+0100
TZOFFSETTO:+0200
TZNAME:CEST
END:DAYLIGHT
END:VTIMEZONE
END:VCALENDAR