BEGIN:VCALENDAR
VERSION:2.0
PRODID:-//wp-events-plugin.com//7.2.3.1//EN
TZID:Europe/Warsaw
X-WR-TIMEZONE:Europe/Warsaw
BEGIN:VEVENT
UID:34012@night4u.pl
DTSTART;TZID=Europe/Warsaw:20191102T210000
DTEND;TZID=Europe/Warsaw:20191103T050000
DTSTAMP:20191102T225913Z
URL:https://night4u.pl/wydarzenia/only-good-vibes-sobota-2-11-cina-club/
SUMMARY:Only Good Vibes - sobota 2.11 - Cina Club
DESCRIPTION:Jak na sobotę przystało zapraszamy Was na imprezę ONLY GOOD 
 VIBES - przez całą sobotnią noc będziemy zarażać Was samymi pozytywn
 ymi wibracjami. Wszystko to dla smaku doprawione zostanie starannie dobran
 ą dawką najlepszej klubowej muzyki obok której nie sposób przejść ob
 ojętnie. \n\nTej nocy imprezę poprowadzi nasz gość specjalny  - DJ DAV
 E\n\nCzekamy na Was - startujemy o 21:00 \n\nPODSUMOWUJĄC: \n☛   Data: 
 2.11 - SOBOTA\n☛   Godzina: 21:00 \n☛   Miejsce: Cina Club  \n\nJuż d
 zisiaj zamów bezpłatną lożę na:\nwww.emenago.opole.pl
ATTACH;FMTTYPE=image/jpeg:https://night4u.pl/wp-content/uploads/2019/10/86
 851_image_74182700_2757312564332308_1263791760321019904_o.jpg
CATEGORIES:opolskie
LOCATION:Cina Club\, Katowicka 55\, Opole\, 45-061\, Poland
GEO:50.667448;17.93523
X-APPLE-STRUCTURED-LOCATION;VALUE=URI;X-ADDRESS=Katowicka 55\, Opole\, 45-0
 61\, Poland;X-APPLE-RADIUS=100;X-TITLE=Cina Club:geo:50.667448,17.93523
END:VEVENT
BEGIN:VTIMEZONE
TZID:Europe/Warsaw
X-LIC-LOCATION:Europe/Warsaw
BEGIN:STANDARD
DTSTART:20191027T020000
TZOFFSETFROM:+0200
TZOFFSETTO:+0100
TZNAME:CET
END:STANDARD
END:VTIMEZONE
END:VCALENDAR