BEGIN:VCALENDAR
VERSION:2.0
PRODID:-//wp-events-plugin.com//7.2.3.1//EN
TZID:Europe/Warsaw
X-WR-TIMEZONE:Europe/Warsaw
BEGIN:VEVENT
UID:16835@night4u.pl
DTSTART;TZID=Europe/Warsaw:20190525T190000
DTEND;TZID=Europe/Warsaw:20190526T050000
DTSTAMP:20190521T133601Z
URL:https://night4u.pl/wydarzenia/only-good-vibes-sobota-25-05-blonia-po-c
 ina-club/
SUMMARY:Only good vibes - sobota 25.05 - błonia PO\, Cina Club
DESCRIPTION:Ostatni dzień Piastonaliów w Cina Club - oficjalne zakończen
 ie Piastonaliów 2019 ... W sobotę 25 maja startujemy w namiocie klubowym
  na błoniach PO o godz. 19:00 - zagrają dla Was rezydenci klubu Cina: Ma
 tdriver oraz Kools. Po zakończeniu imprezy na błoniach przenosimy się n
 a oficjalne zakończenie Piastonaliów 2019 do klubu CINA. Imprezę w Cina
  Club prowadzi DJ Dave.\n\nAFTER W CINA CLUB: do godz. 23:00 wstęp free\,
  po godz. 23:00 studenci wstęp 5 zł\, pozostali 10 zł\, selekcja 18+\n\
 nBezpłatna internetowa rezerwacja miejsc:\nwww.emenago.opole.pl\n\nCina C
 lub - oficjalny klub Piastonaliów 2019. Współorganizator imprezy: Samor
 ząd Studencki Politechniki Opolskiej
ATTACH;FMTTYPE=image/jpeg:https://night4u.pl/wp-content/uploads/2019/05/41
 261_image_60682135_2448881645175403_5041447472631644160_n.jpg
CATEGORIES:opolskie
LOCATION:Cina Club\, Katowicka 55\, Opole\, 45-061\, Poland
GEO:50.667448;17.93523
X-APPLE-STRUCTURED-LOCATION;VALUE=URI;X-ADDRESS=Katowicka 55\, Opole\, 45-0
 61\, Poland;X-APPLE-RADIUS=100;X-TITLE=Cina Club:geo:50.667448,17.93523
END:VEVENT
BEGIN:VTIMEZONE
TZID:Europe/Warsaw
X-LIC-LOCATION:Europe/Warsaw
BEGIN:DAYLIGHT
DTSTART:20190331T030000
TZOFFSETFROM:+0100
TZOFFSETTO:+0200
TZNAME:CEST
END:DAYLIGHT
END:VTIMEZONE
END:VCALENDAR