BEGIN:VCALENDAR
VERSION:2.0
PRODID:-//wp-events-plugin.com//7.2.3.1//EN
TZID:Europe/Warsaw
X-WR-TIMEZONE:Europe/Warsaw
BEGIN:VEVENT
UID:50695@night4u.pl
DTSTART;TZID=Europe/Warsaw:20200807T170000
DTEND;TZID=Europe/Warsaw:20200809T220000
DTSTAMP:20200816T115553Z
URL:https://night4u.pl/wydarzenia/open-craft-festiwal-2020-wroclaw-pub-cra
 wl/
SUMMARY:Open Craft Festiwal 2020 - Wrocław Pub Crawl
DESCRIPTION:Drodzy festiwalowicze\, mamy środek wakacji\, zapowiada się p
 iękna pogoda więc show must go on! Jak dobrze już wiecie tegoroczna edy
 cja OPEN CRAFT FESTIWAL odbędzie się w formie rozproszonej we współpra
 cy z najlepszymi wrocławskimi multitapami. Do współorganizowania festiw
 alu zaprosiliśmy\;\n\nSzynkarnia - local food & multitap\nTargowa - Craft
  Beer and Food\nLa Famiglia Craft Beer & Pizza\nMarynka Piwo i Aperitivo\n
 PINTA Wrocław\nKontynuacja\n4HOPS Cycling Pub\n\nOPEN CRAFT FESTIWAL 2020
  WROCŁAW PUB CRAWL zaczynamy już za tydzień 7 sierpnia!🍻💪 Z kilku
 dziesięciu kranów poleją się najlepsze piwa naszych przyjaciół z Bro
 war PINTA\, Browar FUNKY FLUID\, Maltgarden\, Browar Cztery Ściany oraz k
 ilkanaście naszych propozycji w tym kilka premierowo\, jak specjalne fest
 iwalowe piwo OPEN CRAFT#1 - Session IPA uwarzone ze zwycięzcą zeszłoroc
 znego konkursu Oscarem Mancinim z Browar Domowy Norax.\nMy całą Ekipą p
 ięciu Browarów zaczynamy nasz pub crawl już w piątek. Odwiedzimy wszys
 tkie siedem lokali do czego i Was gorąco zachęcamy! Do zobaczenia!
ATTACH;FMTTYPE=image/jpeg:https://night4u.pl/wp-content/uploads/2020/08/18
 4681_image_116873217_2696516327256802_2950962045668940570_o.jpg
CATEGORIES:dolnośląskie
END:VEVENT
BEGIN:VTIMEZONE
TZID:Europe/Warsaw
X-LIC-LOCATION:Europe/Warsaw
BEGIN:DAYLIGHT
DTSTART:20200329T030000
TZOFFSETFROM:+0100
TZOFFSETTO:+0200
TZNAME:CEST
END:DAYLIGHT
END:VTIMEZONE
END:VCALENDAR