BEGIN:VCALENDAR
VERSION:2.0
PRODID:-//wp-events-plugin.com//7.2.3.1//EN
TZID:Europe/Warsaw
X-WR-TIMEZONE:Europe/Warsaw
BEGIN:VEVENT
UID:47971@night4u.pl
DTSTART;TZID=Europe/Warsaw:20200304T210000
DTEND;TZID=Europe/Warsaw:20200305T000000
DTSTAMP:20200331T141515Z
URL:https://night4u.pl/wydarzenia/open-mic-and-jam-session-night-feat-soul
 mate-4/
SUMMARY:Open Mic and Jam Session Night feat. SOULmate
DESCRIPTION:Stęskniliśmy się za nietotowym open mic’em\, na szczęści
 e kolejny już bardzo niedługo! W środę 4 marca\, znowu oddamy się rad
 osnym improwizacjom i będziemy wspólnie cieszyć się muzyką. Bądźcie
  z nami!\n\nNa scenie Zespół SOULmate :\nNatalia Szczypuła - voc\nMateu
 sz Witkowski - piano \nPiotrek Treliński- guit\nŻenia Betliński - bass\
 nMateusz Maniak- drums\n\nBilety do nabycia w klubie w dniu wydarzenia (10
 pln).
ATTACH;FMTTYPE=image/jpeg:https://night4u.pl/wp-content/uploads/2020/02/16
 1618_image_84387932_2827468360629371_7344033131403411456_n.jpg
CATEGORIES:dolnośląskie
LOCATION:Nietota\, ul.Kazimierza Wielkiego 50\, Wroclaw\, 50-078\, Poland
GEO:51.107699;17.031693
X-APPLE-STRUCTURED-LOCATION;VALUE=URI;X-ADDRESS=ul.Kazimierza Wielkiego 50\
 , Wroclaw\, 50-078\, Poland;X-APPLE-RADIUS=100;X-TITLE=Nietota:geo:51.1076
 99,17.031693
END:VEVENT
BEGIN:VTIMEZONE
TZID:Europe/Warsaw
X-LIC-LOCATION:Europe/Warsaw
BEGIN:STANDARD
DTSTART:20191027T020000
TZOFFSETFROM:+0200
TZOFFSETTO:+0100
TZNAME:CET
END:STANDARD
END:VTIMEZONE
END:VCALENDAR