BEGIN:VCALENDAR
VERSION:2.0
PRODID:-//wp-events-plugin.com//7.2.3.1//EN
TZID:Europe/Warsaw
X-WR-TIMEZONE:Europe/Warsaw
BEGIN:VEVENT
UID:40636@night4u.pl
DTSTART;TZID=Europe/Warsaw:20200116T190000
DTEND;TZID=Europe/Warsaw:20200116T220000
DTSTAMP:20200331T192642Z
URL:https://night4u.pl/wydarzenia/open-mic-w-spirali/
SUMMARY:OPEN MIC! w Spirali
DESCRIPTION:ŚPIEWASZ?\nGRASZ?\nTAŃCZYSZ?\nŻARTUJESZ?\nJESTEŚ POWAŻNY?\
 nWYGIMNASTYKOWANY?\nZRĘCZNY?\nJESTEŚ CZŁOWIEKIEM MAGNESEM?\nCZŁOWIEKIE
 M MIMEM?\nCZŁOWIEKIEM HOMO SAPIENS?\n\nMUSISZ NAM TO POKAZAĆ!\n\nCHCESZ 
 WYSTĄPIĆ PRZED WIDOWNIĄ\, SPRAWDZIĆ SIĘ\, ALBO UTWIERDZIĆ W SWOJEJ Z
 AJEFAJNOŚCI?\n\nTO TE WYDARZENIE JEST DLA CIEBIE!\n\nNAPISZ DO NAS I ZARE
 ZERWUJ SOBIE MIEJSCE.\ndawidmazurdm@gmail.com
ATTACH;FMTTYPE=image/jpeg:https://night4u.pl/wp-content/uploads/2019/12/12
 3291_image_80679877_2653909208009247_2174239387288600576_o.jpg
CATEGORIES:śląskie
LOCATION:Klub Studencki Spirala\, Pszczyńska 85\, Gliwice\, 44-100\, Polan
 d
GEO:50.28534;18.67771
X-APPLE-STRUCTURED-LOCATION;VALUE=URI;X-ADDRESS=Pszczyńska 85\, Gliwice\, 
 44-100\, Poland;X-APPLE-RADIUS=100;X-TITLE=Klub Studencki Spirala:geo:50.2
 8534,18.67771
END:VEVENT
BEGIN:VTIMEZONE
TZID:Europe/Warsaw
X-LIC-LOCATION:Europe/Warsaw
BEGIN:STANDARD
DTSTART:20191027T020000
TZOFFSETFROM:+0200
TZOFFSETTO:+0100
TZNAME:CET
END:STANDARD
END:VTIMEZONE
END:VCALENDAR