BEGIN:VCALENDAR
VERSION:2.0
PRODID:-//wp-events-plugin.com//7.2.3.1//EN
TZID:Europe/Warsaw
X-WR-TIMEZONE:Europe/Warsaw
BEGIN:VEVENT
UID:21273@night4u.pl
DTSTART;TZID=Europe/Warsaw:20190703T150000
DTEND;TZID=Europe/Warsaw:20190707T040000
DTSTAMP:20190705T031715Z
URL:https://night4u.pl/wydarzenia/opener-festival-2019/
SUMMARY:Open’er Festival 2019
DESCRIPTION:Open’er Festival - Gdynia-Kosakowo Airport - 3-6.07.2019
ATTACH;FMTTYPE=image/jpeg:https://night4u.pl/wp-content/uploads/2019/07/50
 721_image_47094268_10155704454256968_822503584556908544_n.jpg
CATEGORIES:pomorskie
LOCATION:Gdynia-Kosakowo Airport\, Kosakowo\, 81-198\, Poland
GEO:54.579722;18.517222
X-APPLE-STRUCTURED-LOCATION;VALUE=URI;X-ADDRESS=Kosakowo\, 81-198\, Poland;
 X-APPLE-RADIUS=100;X-TITLE=Gdynia-Kosakowo Airport:geo:54.579722,18.517222
END:VEVENT
BEGIN:VTIMEZONE
TZID:Europe/Warsaw
X-LIC-LOCATION:Europe/Warsaw
BEGIN:DAYLIGHT
DTSTART:20190331T030000
TZOFFSETFROM:+0100
TZOFFSETTO:+0200
TZNAME:CEST
END:DAYLIGHT
END:VTIMEZONE
END:VCALENDAR