BEGIN:VCALENDAR
VERSION:2.0
PRODID:-//wp-events-plugin.com//7.2.3.1//EN
TZID:Europe/Warsaw
X-WR-TIMEZONE:Europe/Warsaw
BEGIN:VEVENT
UID:16173@night4u.pl
DTSTART;TZID=Europe/Warsaw:20190516T220000
DTEND;TZID=Europe/Warsaw:20190517T050000
DTSTAMP:20190514T213744Z
URL:https://night4u.pl/wydarzenia/opening-of-the-season-radosc/
SUMMARY:Opening of the season - Radość
DESCRIPTION:Hello ?\nWe'd like to invite you to the opening party of the se
 ason in the outdoor club - Radość! ? Great music\, outdoor dance floor\,
  beer for 3PLN\, and free entry with the password 'Erasmus' ?\n\nLet's enj
 oy the warmer weather and dance all night ? You can't miss it ?\n\n?WHEN: 
 Thursday 16.05\, 10PM\n?WHERE: Radość Club (Bernardyńska 15)\n?TICKETS:
  FREE ENTRY with the password 'Erasmus'
ATTACH;FMTTYPE=image/jpeg:https://night4u.pl/wp-content/uploads/2019/05/39
 625_image_60514991_2201363566584457_4121214956681035776_o.jpg
CATEGORIES:lubelskie
LOCATION:Radość\, ul. Bernardyńska 15\, Lublin\, 20-950\, Poland
GEO:51.24424;22.5673
X-APPLE-STRUCTURED-LOCATION;VALUE=URI;X-ADDRESS=ul. Bernardyńska 15\, Lubl
 in\, 20-950\, Poland;X-APPLE-RADIUS=100;X-TITLE=Radość:geo:51.24424,22.5
 673
END:VEVENT
BEGIN:VTIMEZONE
TZID:Europe/Warsaw
X-LIC-LOCATION:Europe/Warsaw
BEGIN:DAYLIGHT
DTSTART:20190331T030000
TZOFFSETFROM:+0100
TZOFFSETTO:+0200
TZNAME:CEST
END:DAYLIGHT
END:VTIMEZONE
END:VCALENDAR