BEGIN:VCALENDAR
VERSION:2.0
PRODID:-//wp-events-plugin.com//7.2.3.1//EN
TZID:Europe/Warsaw
X-WR-TIMEZONE:Europe/Warsaw
BEGIN:VEVENT
UID:19452@night4u.pl
DTSTART;TZID=Europe/Warsaw:20190629T180000
DTEND;TZID=Europe/Warsaw:20190630T060000
DTSTAMP:20190615T024736Z
URL:https://night4u.pl/wydarzenia/opensun-fest-rozpoczecie-lata-29-06-kamp
 -live-djs/
SUMMARY:Open'Sun Fest / Rozpoczęcie lata / 29.06 / Kamp! live & dj's
DESCRIPTION:Mamy ogromną przyjemność zaprosić Was na \nOPEN'SUN FEST / 
 ROZPOCZĘCIE LATA\nZaczynamy letnie imprezy z pełnym impetem. Mamy dla Wa
 s super propozycję aby świętować wszystko to z czym jest związane lat
 o\, czyli wakacyjne wyjazdy\, urlopy\, koniec szkoły\, czy po prostu to\,
  że mamy upragnione słońce i ciepły miły klimat. Mamy niesamowity lin
 e up\, który sprawi\, że będzie wyjątkowo\, różnorodnie\, klimatyczn
 ie i interesująco\, bo każdy z naszych gości ma inny styl\, prezentuje 
 różne brzmienia muzyki elektronicznej od house przez deep\, techno czy b
 alearic. Wisienką na torcie będzie koncert KAMP! do tego innych 9 dj'i. 
 Zapowiada się niesamowita impreza.\nNa naszym patio tej nocy również gr
 amy sety abyście mogli się fajnie chillować i dobrze się bawić.\nWart
 o już teraz zaplanować sobie wolny czas na ten wieczór i namówić na t
 ą imprezę swoich znajomych i przyjaciół :)\n\nWSTĘP 10 ZŁ DO PÓŁNO
 CY / 15 ZŁ PO PÓŁNOCY\n\nLISTA FACEBOOK DO 23:00 WSTĘP WOLNY\nSTART 18
 :00 PATIO \nSTART 22:00 KLUB\n\nPROMO PATIO BAR\nHappy Moments\, czyli bar
 man ogłasza konkret promo na 15 min kilka razy w godzinach od 18:00 do 22
 :00 \nBędziecie zadowoleni :)\n\nHouse / Deep / Balearic / Techno / Nu Di
 sco / New Electronic\n----------------------------------------------------
 ------------------\nROZPOCZYNAMY LATO IMPREZĄ ZE ŚWIETNYMI GOŚĆMI:\n\n
 # KAMP! (Live)\n(Brennnessel / Cascine / DISCO Texas / Kitsune)\nhttps://w
 ww.facebook.com/kampmusik\nhttps://www.instagram.com/kampmusik\nhttps://yo
 utube.com/user/kampmusik\n\n# BIERNASKI\n(Anse records / On/Off / Rura)\nh
 ttps://www.facebook.com/biernaski\nhttps://www.soundcloud.com/biernaski\n\
 n# THOMAS LANGNER\n(Communication™ | King Street Rec.)\nhttps://www.face
 book.com/langnerofficial\nhttps://soundcloud.com/thomaslangner\n\n# DEEPFL
 AVA\n(Luzztro Records | Dust Records)\nhttps://soundcloud.com/deepflava\nh
 ttps://www.facebook.com/Deepflavamusic\n\n# PEETEE S\n(Fade In | Fade Out)
 \nhttp://soundcloud.com/peetee-s\n\n# KACPER KAPSA\n(The Very Polish Cut O
 uts)\nhttps://www.facebook.com/theverypolishcutouts\nhttps://soundcloud.co
 m/kacperkapsa\n\n# JAKOB SALANDER\n(Rura / In the bass room)\nhttps://www.
 facebook.com/jakobsalander\nhttps://www.facebook.com/salandermusic\n\n# AL
 CHEMIX\n(RURA)\n\n# HABERKO JACK\n(RURA)\n\n# SMK\n(Warm Up)\nhttps://www.
 mixcloud.com/SMK94\n------------------------------------------------------
 -------------------\nINFO:\n*Lista Facebook do godziny 23:00 wstęp wolny\
 nobowiązuje wszystkich którzy klikną "wezmę udział" do godziny 20:00 
 po tej godzinie osoby które się zapiszą na wydarzenie nie będą widnia
 ły na wydrukowanej liście.\n\nWszyscy zostający na imprezie goście z p
 atio wstęp FREE !!!\n\nWstęp do klubu za okazaniem dokumentu potwierdzaj
 ącego pełnoletność.\n\nOpłata za wstęp nie upoważnia do kolejnego w
 ejścia tego samego wieczoru bez płacenia na imprezę.\n\nKażdy uczestni
 k wydarzenia jest zobowiązany zapoznać się z nowym regulaminem Klubu Ru
 ra.
ATTACH;FMTTYPE=image/jpeg:https://night4u.pl/wp-content/uploads/2019/06/46
 886_image_64309283_2747050865365246_441856833729069056_o.jpg
CATEGORIES:śląskie
LOCATION:Klub Rura\, Aleja Najświętszej Maryi Panny 38\, Czestochowa\, 42
 -202\, Poland
GEO:50.81223;19.115088
X-APPLE-STRUCTURED-LOCATION;VALUE=URI;X-ADDRESS=Aleja Najświętszej Maryi 
 Panny 38\, Czestochowa\, 42-202\, Poland;X-APPLE-RADIUS=100;X-TITLE=Klub R
 ura:geo:50.81223,19.115088
END:VEVENT
BEGIN:VTIMEZONE
TZID:Europe/Warsaw
X-LIC-LOCATION:Europe/Warsaw
BEGIN:DAYLIGHT
DTSTART:20190331T030000
TZOFFSETFROM:+0100
TZOFFSETTO:+0200
TZNAME:CEST
END:DAYLIGHT
END:VTIMEZONE
END:VCALENDAR