BEGIN:VCALENDAR
VERSION:2.0
PRODID:-//wp-events-plugin.com//7.2.3.1//EN
TZID:Europe/Warsaw
X-WR-TIMEZONE:Europe/Warsaw
BEGIN:VEVENT
UID:20424@night4u.pl
DTSTART;TZID=Europe/Warsaw:20190915T220000
DTEND;TZID=Europe/Warsaw:20190915T235900
DTSTAMP:20190629T105609Z
URL:https://night4u.pl/wydarzenia/organek-koncert-na-zakonczenie-igrzysk-w
 olnosci-2019/
SUMMARY:Ørganek - koncert na zakończenie Igrzysk Wolności 2019
DESCRIPTION:Na finał Igrzysk Wolności 2019 zagra nie kto inny tylko Organ
 ek!\n\nGrupa powstała w 2013 roku z inicjatywy jej lidera\, autora tekst
 ów\, opowiadań i muzyki\, Tomasza Organka\, laureata wielu prestiżowych
  nagród\, m.in. Mateusza Trójki\, Nagrody Artystycznej Miasta Torunia im
 . Grzegorza Ciechowskiego\, Nagrody Marszałka Województwa Kujawsko–Pom
 orskiego.\n\nDo chwili obecnej zespół wydał dwie płyty długogrające\
 , (Głupi 2014 – nominacja do Fryderyka 2015 w kategorii Album Roku Rock
  oraz Czarna Madonna 2016 – Fryderyki 2017 w kategorii Album Roku Rock o
 raz Piosenka Roku) – oba albumy uzyskały status platynowej płyty.\n\nP
 rzez dwa lata (2016–2017) zespół był trzonem Orkiestry Męskiego Gran
 ia i jest współautorem dwóch płyt koncertowych MGO\, które również 
 pokryły się platyną. Dyrektorem muzycznym obu edycji był Tomasz Organe
 k.\n\nW skład zespołu wchodzą: Tomasz Organek (gitara\, śpiew)\, Adam 
 Staszewski (bas)\, Tomasz Lewandowski (instrumenty klawiszowe)\, Robert Ma
 rkiewicz (perkusja).\nZespół zagrał do chwili obecnej kilkaset koncert
 ów w Polsce i za granicą (Litwa\, Francja\, Anglia\, Szkocja\, Irlandia\
 , Szwajcaria\, Bułgaria)\, ciesząc się ogromnym zainteresowaniem public
 zności oraz wielomilionową oglądalnością swoich teledysków. Jego pio
 senki zajmują czołowe miejsca na listach przebojów polskich rozgłośni
  radiowych.\n\nØRGANEK jest również stałym bywalcem największych pols
 kich festiwali (m.in. Woodstock Festival\, Jarocin Festival\, Open’er Fe
 stival\, Orange Festival\, Męskie Granie\, Europejski Stadion Kultury\, C
 JG Festiwal\, Green Festival\, i wielu innych).\n\nPod koniec marca 2019 r
 oku\, zespół wydał dwupłytową\, platynową reedycję albumu Czarna Ma
 donna. Wydawnictwo zawiera dwa premierowe utwory\, między innymi “Niemi
 łość” oraz inne piosenki kojarzące się z działalnością zespołu 
 wcześniej niepublikowane\, co jednocześnie można będzie potraktować j
 ako podsumowanie pięcioletniej działalności oraz wstęp do nowego etapu
 \, który grupa chce zacząć nowym albumem planowanym na przełom tego ro
 ku.\n\nOrganizator: Fundacja Liberté!\n\nPartner Strategiczny:\nMiasto Ł
 ódź\, Łódzkie Centrum Wydarzeń\n\nPartnerzy: \nOpen Society Foundatio
 ns\, European Liberal Forum \n\nPartnerzy wspierający:\nFriedrich-Naumann
 -Stiftung Für die Freiheit\, Orange\n\nPartnerzy merytoryczni:\n4Liberty.
 eu\, FOR - Forum Obywatelskiego Rozwoju\, Fundacja Centrum im. Bronisława
  Geremka\, nienieodpowiedzialni.pl\, KOD - Łódzkie\, Republikon Foundati
 on\, Lithuanian Free Market Institute\, INESS\, Łódzka Arka Demokracji\n
 \nPartnerzy dialogu:\nAtlas Network\n\nPatronat medialny: Toya TV\, Gazeta
  Wyborcza
ATTACH;FMTTYPE=image/jpeg:https://night4u.pl/wp-content/uploads/2019/06/48
 999_image_64658506_2219825744800688_7687254306013052928_n.jpg
CATEGORIES:łódzkie
LOCATION:Atlas Arena\, Bandurskiego 7\, Łódź\, 94-020\, Poland
GEO:51.756105;19.426274
X-APPLE-STRUCTURED-LOCATION;VALUE=URI;X-ADDRESS=Bandurskiego 7\, Łódź\, 
 94-020\, Poland;X-APPLE-RADIUS=100;X-TITLE=Atlas Arena:geo:51.756105,19.42
 6274
END:VEVENT
BEGIN:VTIMEZONE
TZID:Europe/Warsaw
X-LIC-LOCATION:Europe/Warsaw
BEGIN:DAYLIGHT
DTSTART:20190331T030000
TZOFFSETFROM:+0100
TZOFFSETTO:+0200
TZNAME:CEST
END:DAYLIGHT
END:VTIMEZONE
END:VCALENDAR