BEGIN:VCALENDAR
VERSION:2.0
PRODID:-//wp-events-plugin.com//7.2.3.1//EN
TZID:Europe/Warsaw
X-WR-TIMEZONE:Europe/Warsaw
BEGIN:VEVENT
UID:3064@night4u.pl
DTSTART;TZID=Europe/Warsaw:20190110T180000
DTEND;TZID=Europe/Warsaw:20190110T230000
DTSTAMP:20190108T171357Z
URL:https://night4u.pl/wydarzenia/orkiestrowy-turniej-w-kregle/
SUMMARY:Orkiestrowy Turniej w Kręgle
DESCRIPTION:Zapraszamy na Orkiestrowy Turniej w Kręgle\n- miejsce: Klub NN
 N Stalowa Wola ul. Okulickiego 56C\n- data: 10.01.2019 (czwartek)  \n- god
 zina: 18.00\n- wpisowe: 20zł od osoby\n- zapisy 3 osobowych drużyn nr te
 l: 535 885 775\n\nCałkowity dochód z imprezy zostanie przekazany na rzec
 z 27 Finału WOŚP
ATTACH;FMTTYPE=image/jpeg:https://night4u.pl/wp-content/uploads/2019/01/10
 255_image_48992730_1988117961307690_6314692713669197824_o.jpg
CATEGORIES:podkarpackie
LOCATION:NNN\, Okulickiego 56c\, Stalowa Wola\, 37-450\, Poland
GEO:50.578776;22.051998
X-APPLE-STRUCTURED-LOCATION;VALUE=URI;X-ADDRESS=Okulickiego 56c\, Stalowa W
 ola\, 37-450\, Poland;X-APPLE-RADIUS=100;X-TITLE=NNN:geo:50.578776,22.0519
 98
END:VEVENT
BEGIN:VTIMEZONE
TZID:Europe/Warsaw
X-LIC-LOCATION:Europe/Warsaw
BEGIN:STANDARD
DTSTART:20181028T020000
TZOFFSETFROM:+0200
TZOFFSETTO:+0100
TZNAME:CET
END:STANDARD
END:VTIMEZONE
END:VCALENDAR