BEGIN:VCALENDAR
VERSION:2.0
PRODID:-//wp-events-plugin.com//7.2.3.1//EN
TZID:Europe/Warsaw
X-WR-TIMEZONE:Europe/Warsaw
BEGIN:VEVENT
UID:23038@night4u.pl
DTSTART;TZID=Europe/Warsaw:20190726T210000
DTEND;TZID=Europe/Warsaw:20190727T040000
DTSTAMP:20190724T175907Z
URL:https://night4u.pl/wydarzenia/osoba-godna-pije-do-dna-2/
SUMMARY:Osoba godna pije do dna
DESCRIPTION:Nie lejemy za kołnierz | Nie lejemy do rękawa | Nie oszukujem
 y | Pijemy do dna | Bądźmy siebie godni |\n\nMuzykę zagramy dobrą | Do
  tańca | Do picia! |\n\nwejście | 10 PLN\ndresscode | godnie i swobodnie
 \nselekcja | tylko z godnym sercem na dłoni \nrezerwacje | 782298262
ATTACH;FMTTYPE=image/jpeg:https://night4u.pl/wp-content/uploads/2019/07/54
 427_image_67321542_2661494170530283_9024327678806720512_n.jpg
CATEGORIES:lubelskie
LOCATION:Klub Towarzyski\, Krakowskie Przedmieście 32\, Lublin\, 20-002\, 
 Poland
GEO:51.24769;22.56263
X-APPLE-STRUCTURED-LOCATION;VALUE=URI;X-ADDRESS=Krakowskie Przedmieście 32
 \, Lublin\, 20-002\, Poland;X-APPLE-RADIUS=100;X-TITLE=Klub Towarzyski:geo
 :51.24769,22.56263
END:VEVENT
BEGIN:VTIMEZONE
TZID:Europe/Warsaw
X-LIC-LOCATION:Europe/Warsaw
BEGIN:DAYLIGHT
DTSTART:20190331T030000
TZOFFSETFROM:+0100
TZOFFSETTO:+0200
TZNAME:CEST
END:DAYLIGHT
END:VTIMEZONE
END:VCALENDAR