BEGIN:VCALENDAR
VERSION:2.0
PRODID:-//wp-events-plugin.com//7.2.3.1//EN
TZID:Europe/Warsaw
X-WR-TIMEZONE:Europe/Warsaw
BEGIN:VEVENT
UID:6008@night4u.pl
DTSTART;TZID=Europe/Warsaw:20190302T220000
DTEND;TZID=Europe/Warsaw:20190303T043000
DTSTAMP:20190131T221216Z
URL:https://night4u.pl/wydarzenia/ostatki-2019-z-rising-stars-revue-feat-m
 artin-zoom/
SUMMARY:Ostatki 2019 z Rising Stars Revue! feat. Martin Zoom
DESCRIPTION:Ostatki 2019 przed Nami! Jak co roku okres niczym nieskrępowan
 ej zabawy bardzo szybko mija\, więc radzimy bawić się razem z Nami w os
 tatnią sobotę karnawału. Na scenie zagości Wasza ulubiona Rising Stars
  Revue\, która postara się pozamiatać!\n\nGreat Saturday Night to synon
 im dobrej zabawy w naszym mieście. Już od 2014 roku te imprezy zaskakuj
 ą najbardziej wymagających gości ze Szczecina\, Polski i całego świat
 a. Zagra nasz rezydent MARTIN ZOOM. W najlepszych klasykach klubowych post
 ara się znaleźć to co porywa Was do tańca. Jego sety to energetyczna m
 ieszanka wielu styli muzycznych\, tak aby każdy znalazł coś dla siebie.
  #House #RnB #Dance i wiele\, wiele innych.\n\nSzukasz miejsca na organiza
 cję swojej ważnej imprezy?! Zgłoś się do Nas właśnie teraz - prywat
 na loża do rezerwacji od ręki.\n\nPartnerzy imprezy: \nBelvedere Vodka\,
  Moët & Chandon\, Ciroc Vodka\n\nPartner cyklu imprez: \nPlatinum Gym #Sz
 czecin\n\n- O klubie - About the Club -\nNajwiększy parkiet Szczecina. Zj
 awiskowy wystrój i efekty audiowizualne\, strefa VIP. Serdecznie zaprasza
 my do Grey'a po dawkę niezapomnianych wrażeń i obsługi na najwyższym 
 poziomie. Zachęcamy do składania rezerwacji. Poczuj różnicę! Poznaj w
 szystkie twarze Grey Club Szczecin.\n\nNightlife / Lounge / Events / Fashi
 on / Show / Live Act / Bar /\n\n- Data i adres - Date and address - 02/03/
 2019 - sobota\n\nDeptak Bogusława | ul. Ks. Bogusława X 9 | start - godz
 . 22.00\n\n-Wstęp - Entrance\n\nPanie - Ladies\n*przez całą noc 20 PLN 
 od osoby\n*all night - 20 PLN/each person\n\nPanowie:\n* przed 23.00 - 20\
 ,00 PLN\n- before 11 pm - 20 PLN\n\n* po 23.00 - 30\,00 PLN\n- after 11 pm
  - 30 PLN\n\n- Dress Code - \n*impreza ma charakter otwarty\, obowiązuje 
 selekcja\, strój wieczorowy/elegancki\, osoby w sportowym ubraniu nie bę
 dą wpuszczane. Zachęcamy do wczesnego przychodzenia do klubu. (Please do
  mind the dress code. Preferred attire is an elegant casual outfit. Guests
  in sportswear will not be admitted to the club)\n\n/menu/ \nhttp://www.gr
 eyclub.pl/club/klub/cennik.html\n/regulamin/ \nhttp://www.greyclub.pl/club
 /klub/regulamin.html\n\nLine - Up:\nMARTIN ZOOM - rezydent klubu (Marcin Z
 omerski)\n\n#greyclub #szczecin #deptakboguslawa\n\nkontakt - contact: \n+
  48 666 12 64 64\ninfo@greyclub.pl\nwww.greyclub.pl\n\nRezerwacje - Reserv
 ations\nelektroniczna rezerwacja | e - reservations\nhttp://greyclub.pl/cl
 ub/zlozenie-rezerwacji\n\n*private room - salka (do 30 os.) - oferta indyw
 idualna - konsumpcja 600\,00 PLN - cała kwota do wydania na barze\n*stref
 a VIP (loże 15 i 10os.) - konsumpcja min. 150 PLN/os na start lub pakiety
  Moët & Chandon & Belvedere Vodka & Ciroc Vodka\n*lounge (stoliki od 4 do
  12 os. i więcej) - starter 200 PLN (Finlandia 0\,7 wraz z 1l napoju lub 
 kwota do wydania na barze)\n*loże przy parkiecie (od 6 do 17os.) - konsum
 pcja 50 PLN/os (cała kwota do wykorzystania na barze)\n*istnieje możliwo
 ść rezerwowania miejsc przy barach i przy tzw. wysokich stolikach przy p
 arkiecie. Prosimy pytać Managera o różne formy rezerwacji.\n\n*lokal kl
 imatyzowany\, obowiązuje rezerwacja miejsc siedzących\, odbiór loży i 
 stolików do godz. 23.30 - do 23:00 promocyjna cena wstępu 20\,00 PLN od 
 os.\n\nPAKIETY WIECZORY PANIEŃSKIE\nhttp://www.greyclub.pl/club/imprezy/w
 ieczory-panienskie-kawalerskie.html\n\n----------------------------------\
 n\nSobota\, czyli królowa tygodnia ma zaspokoić potrzeby najbardziej wym
 agających. W soboty imprezy pod hasłem ­ Great Saturday Night ­ organi
 zowane wspólnie z partnerami klubu Belvedere Vodka\, Hennessy oraz Moët 
 & Chandon. W ten dzień w klubie będziemy mogli pobawić się przy dźwi
 ękach serwowanych przez naszych rezydentów i gości specjalnych\, m.in. 
 DJ Adamusa (będzie pojawiał się raz w miesiącu w swoim cyklu King of H
 ouse). Imprezy urozmaicą animacje tancerzy\, live acty\, czyli saksofon\,
  gitara i inne instrumenty na żywo. Oprócz tego usłyszymy współczesn
 ą muzykę klubową\, przeboje z lat 80/90 w ciekawych aranżacjach i najn
 owszych mash­upach\, tak aby każdy mógł popaść w niczym nieskrempowa
 ną zabawę.\n\nhttp://www.greyclub.pl/club/imprezy/imprezy-cykliczne/\n\n
 ENG. Saturday\, the queen of the week\, must fulfil the needs of even the 
 most demanding customers. On Saturdays\, we organise “Great Saturday Nig
 ht” parties together with our partners: Belvedere Vodka\, Hennessy and M
 oët & Chandon. On this day\, we will be partying to the sounds played by 
 our resident DJs and special guests\, such as DJ Adamus (who will appear o
 nce a month in his own King of House series). The parties will be enriched
  by dancers and live acts\, such as a saxophone\, a guitar and other instr
 uments playing live. In addition to that\, you will hear modern clubbing m
 usic\, 80’s/90’s hits in interesting arrangements and the latest mash 
 ups so that everyone will be able to have unlimited fun.\n\n* entrance fee
  for ladies and gentlemen: 20 PLN before 11.00 pm / 30 PLN after 11.00 pm\
 n* loge seating/table booking – prices start from 200 PLN\, including al
 cohol\n* open event\, selection\, dress code applies\, you must be at leas
 t 21 to enter.\n\nDE. Samstag – die Königin der Woche soll die Bedürfn
 isse der anspruchsvollsten Kunden befriedigen. Samstags finden Events unte
 r dem Motto Great Saturday Night statt\, die gemeinsam mit den Clubpartner
 n Belvedere Vodka\, Hennessy und Moët & Chandon organisiert werden. An di
 esem Tag können wir uns bei der Musik unserer Residenten sowie Spezialgä
 ste unterhalten\, u.a. DJ Adamus (tritt einmal im Monat in seiner King of 
 House Reihe auf). Die Events werden mit Animationen der Tänzer\, Live Act
 s\, d.h. Saxofon\, Gitarre und anderen Live-Instrumenten\, bereichert. Dar
 über hinaus hören wir hier die gegenwärtige Clubmusik\, Hits der 80er u
 nd 90er Jahre in interessanten Arrangements und den neuesten Mashups\, dam
 it jeder ungezwungenen Spaß finden kann.\n\n* Eintritt für Frauen und He
 rren 20 PLN bis 23.00 Uhr / 30 PLN nach 23.00 Uhr\n* Reservierung Loge/Tis
 ch bereits ab 200 PLN inkl. alkoholischer Getränke\n* offene Veranstaltun
 g\, Selektion\, Dress Code\, Eintritt ab 21 Jahren
ATTACH;FMTTYPE=image/jpeg:https://night4u.pl/wp-content/uploads/2019/01/18
 041_image_50936422_2305371192807366_5347863199876120576_o.jpg
CATEGORIES:zachodniopomorskie
LOCATION:Grey Club\, ul. Ks. Bogusława X 9\, Szczecin\, 70-440\, Poland
GEO:53.429496;14.543525
X-APPLE-STRUCTURED-LOCATION;VALUE=URI;X-ADDRESS=ul. Ks. Bogusława X 9\, Sz
 czecin\, 70-440\, Poland;X-APPLE-RADIUS=100;X-TITLE=Grey Club:geo:53.42949
 6,14.543525
END:VEVENT
BEGIN:VTIMEZONE
TZID:Europe/Warsaw
X-LIC-LOCATION:Europe/Warsaw
BEGIN:STANDARD
DTSTART:20181028T020000
TZOFFSETFROM:+0200
TZOFFSETTO:+0100
TZNAME:CET
END:STANDARD
END:VTIMEZONE
END:VCALENDAR