BEGIN:VCALENDAR
VERSION:2.0
PRODID:-//wp-events-plugin.com//7.2.3.1//EN
TZID:Europe/Warsaw
X-WR-TIMEZONE:Europe/Warsaw
BEGIN:VEVENT
UID:45613@night4u.pl
DTSTART;TZID=Europe/Warsaw:20200221T210000
DTEND;TZID=Europe/Warsaw:20200222T050000
DTSTAMP:20200331T142707Z
URL:https://night4u.pl/wydarzenia/ostatki-koncert-zespolu-extazy-lista-fb/
SUMMARY:Ostatki! / Koncert zespołu Extazy!/ /Lista FB/
DESCRIPTION:Ostatki rozpoczynamy już w piątek od silnego akcentu - koncer
 t EXTAZY. Wszyscy dobrze wiedzą\, że oni potrafią rozkręcić każdą i
 mprezę! \n\nO muzykę poza koncertem zadba DJ Młodziak.\nKoncert zespoł
 u EXTAZY: 23:45. \n\nMając do dyspozycji dobrą muzykę i solidnie zaopat
 rzony bar\, do zabawy jesteście nam potrzebni tylko Wy!\nWięc bierzcie z
 najomych i widzimy się!\n________________________________________________
 __\nStart 21:00\nKlub zastrzega sobie prawo do selekcji gości +18.\n_____
 _____________________________________________\nW ofercie dla Was tego wiec
 zora mamy:\nWjazd na imprezę za darmo dla wszystkich z listy FB którzy z
 jawią się do godziny 22:00 / \nPo 22 i spoza listy 15 zł\nListę zamyka
 my o 20!\n\nKoncert zespołu EXTAZY: 23:45. \n\nKliknij "wezmę udział" b
 o "zainteresowaną/ym" to można być co najwyżej kolejną kolejką przy 
 barze.\nKoncert zespołu Extazy\, a przed i po nim zagra nasz rezydent DJ 
 Młodziak\n__________________________________________________\nZnajdź nas
  również na:\nSnapchat: silence_club || Instagram: @silenceclub\n\n21.02
 .2020r.  (PIĄTEK)\nSilenceClub\nRadziszewskiego 8\nLublin
ATTACH;FMTTYPE=image/jpeg:https://night4u.pl/wp-content/uploads/2020/01/14
 8065_image_84067735_3724336230924692_8950630571197857792_o.jpg
CATEGORIES:lubelskie
LOCATION:SilenceClub\, Radziszewskiego 8\, Lublin\, 20-031\, Poland
GEO:51.246457;22.543797
X-APPLE-STRUCTURED-LOCATION;VALUE=URI;X-ADDRESS=Radziszewskiego 8\, Lublin\
 , 20-031\, Poland;X-APPLE-RADIUS=100;X-TITLE=SilenceClub:geo:51.246457,22.
 543797
END:VEVENT
BEGIN:VTIMEZONE
TZID:Europe/Warsaw
X-LIC-LOCATION:Europe/Warsaw
BEGIN:STANDARD
DTSTART:20191027T020000
TZOFFSETFROM:+0200
TZOFFSETTO:+0100
TZNAME:CET
END:STANDARD
END:VTIMEZONE
END:VCALENDAR