BEGIN:VCALENDAR
VERSION:2.0
PRODID:-//wp-events-plugin.com//7.2.3.1//EN
TZID:Europe/Warsaw
X-WR-TIMEZONE:Europe/Warsaw
BEGIN:VEVENT
UID:48356@night4u.pl
DTSTART;TZID=Europe/Warsaw:20200227T220000
DTEND;TZID=Europe/Warsaw:20200228T040000
DTSTAMP:20200227T051723Z
URL:https://night4u.pl/wydarzenia/ostatki-po-ostatkach-legendarna-czwartko
 wa-dyskoteka-studencka/
SUMMARY:Ostatki po Ostatkach / Legendarna Czwartkowa Dyskoteka Studencka
DESCRIPTION:Po zimowej przerwie powracamy na główną salę! 🔥\n\nA sem
 estr rozpoczynamy "Ostatkami po Ostatkach"\, podczas których wystąpi go
 ść specjalny - Bueno Clinic\, który rozkręcał Juwenalia 2018 na Stref
 a Plaża AGH! 🏖\nGra on nieprzerwanie dla publiczności m.in. w Polsce\
 ,\nSłowacji\, Czechach\, UK\, Holandii czy Korei Południowej.\nPodczas j
 ego występu klubowicze tętnią\nniesamowitą energią ⚡️\n\nGość s
 pecjalny: BUENO CLINIC\nZagrają: NAMTEH \, DJ ANTYBIOTYK\n\n*****\n\nNiez
 dane kolokwium? Brzydka pogoda? Czy może pajęczyny w portfelu\, gdy do k
 ońca miesiąca jeszcze 2 tygodnie? Każdy powód jest dobry\, by poprawi
 ć sobie humor na parkiecie Klubu Studio!\n\nW każdy czwartek o godzinie 
 22:00 w Klubie Studio ma miejsce znana już w całym Krakowie DYSKOTEKA ST
 UDENCKA!\n\nZaproście znajomych\, bawmy się długo i tłumnie! Nie może
  Was tam zabraknąć!\n\nZobacz jak się ludzie bawią na naszych dyskotek
 ach: https://www.youtube.com/watch?v=bYyg4KpMsqI\n\nZapraszamy!\n\n******\
 nBilety:\n5 zł - do północy\n10 zł - od północy\n\nWstęp za okazani
 em legitymacji studenckiej.
ATTACH;FMTTYPE=image/jpeg:https://night4u.pl/wp-content/uploads/2020/02/16
 4942_image_87370947_2971889666164379_4259696715327602688_o.jpg
CATEGORIES:małopolskie
LOCATION:Klub Studio\, Budryka 4\, Kraków\, 30-072\, Poland
GEO:50.068057;19.908264
X-APPLE-STRUCTURED-LOCATION;VALUE=URI;X-ADDRESS=Budryka 4\, Kraków\, 30-07
 2\, Poland;X-APPLE-RADIUS=100;X-TITLE=Klub Studio:geo:50.068057,19.908264
END:VEVENT
BEGIN:VTIMEZONE
TZID:Europe/Warsaw
X-LIC-LOCATION:Europe/Warsaw
BEGIN:STANDARD
DTSTART:20191027T020000
TZOFFSETFROM:+0200
TZOFFSETTO:+0100
TZNAME:CET
END:STANDARD
END:VTIMEZONE
END:VCALENDAR