BEGIN:VCALENDAR
VERSION:2.0
PRODID:-//wp-events-plugin.com//7.2.3.1//EN
TZID:Europe/Warsaw
X-WR-TIMEZONE:Europe/Warsaw
BEGIN:VEVENT
UID:46903@night4u.pl
DTSTART;TZID=Europe/Warsaw:20200222T210000
DTEND;TZID=Europe/Warsaw:20200223T020000
DTSTAMP:20200222T010145Z
URL:https://night4u.pl/wydarzenia/ostatki-w-klubie-k15/
SUMMARY:Ostatki w Klubie K15 !
DESCRIPTION:Zapraszamy na ostatkową dyskotekę w klimacie retro. Zagramy n
 ajlepsze utwory z lat '70\, '80 i '90. Nie zabraknie także najnowszych hi
 tów tanecznych. Za konsolą DJ KJ. Początek godzina 21:00\, wstęp 20 z
 ł\, rezerwacje lóż: 13 43 277 11
ATTACH;FMTTYPE=image/jpeg:https://night4u.pl/wp-content/uploads/2020/02/15
 4978_image_84997293_2878897582132465_4378077369898893312_o.jpg
CATEGORIES:podkarpackie
LOCATION:Klub K15\, Krakowska 15\, Krosno\, 38-400\, Poland
GEO:49.697949;21.752425
X-APPLE-STRUCTURED-LOCATION;VALUE=URI;X-ADDRESS=Krakowska 15\, Krosno\, 38-
 400\, Poland;X-APPLE-RADIUS=100;X-TITLE=Klub K15:geo:49.697949,21.752425
END:VEVENT
BEGIN:VTIMEZONE
TZID:Europe/Warsaw
X-LIC-LOCATION:Europe/Warsaw
BEGIN:STANDARD
DTSTART:20191027T020000
TZOFFSETFROM:+0200
TZOFFSETTO:+0100
TZNAME:CET
END:STANDARD
END:VTIMEZONE
END:VCALENDAR