BEGIN:VCALENDAR
VERSION:2.0
PRODID:-//wp-events-plugin.com//7.2.3.1//EN
TZID:Europe/Warsaw
X-WR-TIMEZONE:Europe/Warsaw
BEGIN:VEVENT
UID:45588@night4u.pl
DTSTART;TZID=Europe/Warsaw:20200222T210000
DTEND;TZID=Europe/Warsaw:20200222T210000
DTSTAMP:20200221T231227Z
URL:https://night4u.pl/wydarzenia/ostatki-w-zamkowej/
SUMMARY:OSTATKI W ZAMKOWEJ!
DESCRIPTION:Hucznie kończymy karnawał w Zamkowej! \nJeśli impreza ostatk
 owa to tylko z nami! \n\nCzekać na Was będą wyselekcjonowane przez DJ-a
  Tomka Schaba największe przeboje\, a nasi barmani przygotują koktajle n
 awet dla najbardziej wybrednych podniebień 🍸\n\nPewnie pozwoliliście 
 sobie na odrobinę słodkiego szaleństwa w czwartek 🍩\, a nasz parkiet
  to najlepsze miejsce żeby je spalić! \n\nTego wieczoru po prostu musici
 e być z nami. Najlepiej do samego końca! 👌\n\nWstęp dla osób bez re
 zerwacji:\n30 zł/os.\n\nRezerwacje lóż: 50 zł/os. do wykorzystania w b
 arze + bilet wstępu 25 zł/os.\n\nDla gości z rezerwacji powitalny shot 
 oraz przystawka na stole!🙂\n\nSpieszcie się! Liczba miejsc ograniczona
 🙂\n\nRezerwacje/Info: 41 344 72 26
ATTACH;FMTTYPE=image/jpeg:https://night4u.pl/wp-content/uploads/2020/01/14
 7994_image_82881987_3249604755054256_2455810438122700800_n.jpg
CATEGORIES:świętokrzyskie
LOCATION:Klub Zamkowa\, Zamkowa 2\, Kielce\, 25-009\, Poland
GEO:50.868771;20.625644
X-APPLE-STRUCTURED-LOCATION;VALUE=URI;X-ADDRESS=Zamkowa 2\, Kielce\, 25-009
 \, Poland;X-APPLE-RADIUS=100;X-TITLE=Klub Zamkowa:geo:50.868771,20.625644
END:VEVENT
BEGIN:VTIMEZONE
TZID:Europe/Warsaw
X-LIC-LOCATION:Europe/Warsaw
BEGIN:STANDARD
DTSTART:20191027T020000
TZOFFSETFROM:+0200
TZOFFSETTO:+0100
TZNAME:CET
END:STANDARD
END:VTIMEZONE
END:VCALENDAR