BEGIN:VCALENDAR
VERSION:2.0
PRODID:-//wp-events-plugin.com//7.2.3.1//EN
TZID:Europe/Warsaw
X-WR-TIMEZONE:Europe/Warsaw
BEGIN:VEVENT
UID:41012@night4u.pl
DTSTART;TZID=Europe/Warsaw:20191228T210000
DTEND;TZID=Europe/Warsaw:20191229T050000
DTSTAMP:20191228T092147Z
URL:https://night4u.pl/wydarzenia/ostatnia-impreza-dla-singli-w-2019-befor
 e-przed-sylwestrem/
SUMMARY:Ostatnia impreza dla Singli w 2019 ! BEFORE PRZED SYLWESTREM %
DESCRIPTION:Dla tych\, którzy się jeszcze nie wyszaleli ! \nDla tych\, kt
 órzy szukają drugiej połowy ! \nDla tych\, którzy po prostu kochają s
 ię bawić ! \n\nZapraszamy 28 grudnia na przedostatnią impreze w tym rok
 u! 😁😁
ATTACH;FMTTYPE=image/jpeg:https://night4u.pl/wp-content/uploads/2019/12/12
 7242_image_80288160_2631251006911408_2047918549367783424_n.jpg
CATEGORIES:łódzkie
LOCATION:Speed Club\, Stare Rowiska 24\, Skierniewice\, 96-100\, Poland
GEO:51.90894;20.100013
X-APPLE-STRUCTURED-LOCATION;VALUE=URI;X-ADDRESS=Stare Rowiska 24\, Skiernie
 wice\, 96-100\, Poland;X-APPLE-RADIUS=100;X-TITLE=Speed Club:geo:51.90894,
 20.100013
END:VEVENT
BEGIN:VTIMEZONE
TZID:Europe/Warsaw
X-LIC-LOCATION:Europe/Warsaw
BEGIN:STANDARD
DTSTART:20191027T020000
TZOFFSETFROM:+0200
TZOFFSETTO:+0100
TZNAME:CET
END:STANDARD
END:VTIMEZONE
END:VCALENDAR