BEGIN:VCALENDAR
VERSION:2.0
PRODID:-//wp-events-plugin.com//7.2.3.1//EN
TZID:Europe/Warsaw
X-WR-TIMEZONE:Europe/Warsaw
BEGIN:VEVENT
UID:1442@night4u.pl
DTSTART;TZID=Europe/Warsaw:20181229T210000
DTEND;TZID=Europe/Warsaw:20181230T060000
DTSTAMP:20181228T232412Z
URL:https://night4u.pl/wydarzenia/ostatnia-sobota-roku_29-12_fb-free/
SUMMARY:Ostatnia Sobota Roku_29.12_Fb Free
DESCRIPTION:Zatańczysz z nami jeszcze raz ? Ten Ostatni raz ?\nNim skończ
 y się ten Rok :D\nPożegnajmy ten rok w najlepszym stylu !\nZatańczmy ra
 zem ostatni raz w 2018 !\nPrzed Sylwestrem należy dobrze się rozgrzać -
  i przy barze i na parkiecie \;)\nZapraszamy w sobotę\, 29 grudnia\, do n
 aszego klubu\, by wspólnie przygotować się na najważniejszą imprezę 
 w roku.\nNie siedź w domu\, wpadaj do Madness !\n------------------------
 --- ◄ SZCZEGÓŁY► -------------------------------\n► Goście biorą
 cy udział w naszym wydarzeniu\, wchodzą do klubu za DARMO do 21:30 na po
 dstawie dowodu tożsamości. \n► Prosimy pamiętać o schludnym eleganck
 im stroju. \nGoście w strojach sportowych nie zostaną wpuszczeni do klub
 u.\n► Rezerwacje: 888 422 015 lub 731 789 808\n► Start: 21:00\, bawimy
  się do rana! \n► Data: Ostatnia SOBOTA Roku \, 29.12.2018
ATTACH;FMTTYPE=image/jpeg:https://night4u.pl/wp-content/uploads/2018/12/67
 65_image_49337455_2221260317913785_3979588968441184256_n.jpg
CATEGORIES:świętokrzyskie
LOCATION:Madness Club\, Piotrkowska 12\, Kielce\, 28-114\, Poland
GEO:50.872788;20.630021
X-APPLE-STRUCTURED-LOCATION;VALUE=URI;X-ADDRESS=Piotrkowska 12\, Kielce\, 2
 8-114\, Poland;X-APPLE-RADIUS=100;X-TITLE=Madness Club:geo:50.872788,20.63
 0021
END:VEVENT
BEGIN:VTIMEZONE
TZID:Europe/Warsaw
X-LIC-LOCATION:Europe/Warsaw
BEGIN:STANDARD
DTSTART:20181028T020000
TZOFFSETFROM:+0200
TZOFFSETTO:+0100
TZNAME:CET
END:STANDARD
END:VTIMEZONE
END:VCALENDAR