BEGIN:VCALENDAR
VERSION:2.0
PRODID:-//wp-events-plugin.com//7.2.3.1//EN
TZID:Europe/Warsaw
X-WR-TIMEZONE:Europe/Warsaw
BEGIN:VEVENT
UID:45525@night4u.pl
DTSTART;TZID=Europe/Warsaw:20200131T220000
DTEND;TZID=Europe/Warsaw:20200201T040000
DTSTAMP:20200131T220154Z
URL:https://night4u.pl/wydarzenia/ostro-hulaj-dusza-pierwszy-dzien-otwarci
 a-31-01/
SUMMARY:Ostro: Hulaj Dusza - Pierwszy dzień Otwarcia! 31.01
DESCRIPTION:Hulaj Dusza - 1 dzień Otwarcia \n\nW ten piątek oficjalnie ot
 wieramy dla Was drzwi do klubowej odsłony Ostro! Hulaj dusza - czyli 1 dz
 ień otwarcia. Dziękujemy  Ostro Friends za pre openingowy weekend\, tera
 z już możemy powiedzieć to Oficjalnie - w Ostro można tańczyć. 🔥\
 n\nBierzcie znajomych i wpadajcie zobaczyć co dla Was przygotowaliśmy! K
 lasycznie nasi dje nie pozwolą wam zejść z parkietu do białego rana\, 
 a nasi barmani zadbają  o najlepsze drinki w mieście! \n\nDj’s\n💭Sc
 ena Lekko - TBA\n🌶Scena Ostro - TBA\n\n⏰Start: 22 \nWejście: Piątka
 / 5 pln\nNA górę jak zawsze wbijacie za FREE\n18+
ATTACH;FMTTYPE=image/jpeg:https://night4u.pl/wp-content/uploads/2020/01/14
 7749_image_83693419_1287759424745046_2638039904717635584_o.jpg
CATEGORIES:lubelskie
LOCATION:OSTRO\, ul. Krakowskie Przedmieście 25\, Lublin\, 20-002\, Poland
GEO:51.24798;22.56254
X-APPLE-STRUCTURED-LOCATION;VALUE=URI;X-ADDRESS=ul. Krakowskie Przedmieści
 e 25\, Lublin\, 20-002\, Poland;X-APPLE-RADIUS=100;X-TITLE=OSTRO:geo:51.24
 798,22.56254
END:VEVENT
BEGIN:VTIMEZONE
TZID:Europe/Warsaw
X-LIC-LOCATION:Europe/Warsaw
BEGIN:STANDARD
DTSTART:20191027T020000
TZOFFSETFROM:+0200
TZOFFSETTO:+0100
TZNAME:CET
END:STANDARD
END:VTIMEZONE
END:VCALENDAR