BEGIN:VCALENDAR
VERSION:2.0
PRODID:-//wp-events-plugin.com//7.2.3.1//EN
TZID:Europe/Warsaw
X-WR-TIMEZONE:Europe/Warsaw
BEGIN:VEVENT
UID:48411@night4u.pl
DTSTART;TZID=Europe/Warsaw:20200228T220000
DTEND;TZID=Europe/Warsaw:20200229T040000
DTSTAMP:20200228T215932Z
URL:https://night4u.pl/wydarzenia/ostro-patrz-z-kim-tanczysz-x-dj-johny-w-
 warsaw-28-02/
SUMMARY:Ostro: Patrz z kim tańczysz x Dj Johny W (Warsaw) :: 28.02
DESCRIPTION:Patrz z kim tańczysz\, czyli nasza nowa cykliczna impreza ♥ 
 \n\nW Ostro można już tańczyć dlatego chcemy Was porwać na parkiet\, 
 z którego nie zejdziecie aż do białego rana! Weź znajomych i wbijaj na
  parkiet ale przede wszystkim - PATRZ Z KIM TAŃCZYSZ! \n\nDj’s\n🌶Sce
 na Ostro -  Dj Johny W \n\n⏰Start: 22 \nWejście: Piątka \n+18 \nNa gó
 rę jak zawsze wyjeżdżacie ZA FREE
ATTACH;FMTTYPE=image/jpeg:https://night4u.pl/wp-content/uploads/2020/02/16
 5376_image_87188188_1307841989403456_797245551904030720_o.jpg
CATEGORIES:lubelskie
LOCATION:OSTRO\, ul. Krakowskie Przedmieście 25\, Lublin\, 20-002\, Poland
GEO:51.24798;22.56254
X-APPLE-STRUCTURED-LOCATION;VALUE=URI;X-ADDRESS=ul. Krakowskie Przedmieści
 e 25\, Lublin\, 20-002\, Poland;X-APPLE-RADIUS=100;X-TITLE=OSTRO:geo:51.24
 798,22.56254
END:VEVENT
BEGIN:VTIMEZONE
TZID:Europe/Warsaw
X-LIC-LOCATION:Europe/Warsaw
BEGIN:STANDARD
DTSTART:20191027T020000
TZOFFSETFROM:+0200
TZOFFSETTO:+0100
TZNAME:CET
END:STANDARD
END:VTIMEZONE
END:VCALENDAR