BEGIN:VCALENDAR
VERSION:2.0
PRODID:-//wp-events-plugin.com//7.2.3.1//EN
TZID:Europe/Warsaw
X-WR-TIMEZONE:Europe/Warsaw
BEGIN:VEVENT
UID:27456@night4u.pl
DTSTART;TZID=Europe/Warsaw:20190920T210000
DTEND;TZID=Europe/Warsaw:20190921T050000
DTSTAMP:20190914T105422Z
URL:https://night4u.pl/wydarzenia/otrzesiny-licealne-bielska-bialej-%e2%98
 %85-pomarancza-%e2%98%85-20-wrzesnia/
SUMMARY:Otrzęsiny Licealne Bielska-Białej ★ Pomarańcza ★ 20 wrześni
 a
DESCRIPTION:▀▀▀▀▀▀▀▀▀▀▀▀▀▀▀▀▀▀▀▀▀
 ▀▀\nOtrzęsiny Licealne Bielska-Białej 2019?\n▄▄▄▄▄▄▄
 ▄▄▄▄▄▄▄▄▄▄▄▄▄▄▄▄\n\nLicealne Melanże - Bi
 elsko-Biała witają i prezentują Otrzęsiny\, czyli najlepszą okazję d
 o poznania nowych osób\, które razem z Tobą weszły w licealny świat! 
 Nie ma lepszego sposobu na integrację niż impreza w klubie! ?? A jak dob
 ry melanż to\, tylko w klubie Pomarańcza. Bierzcie swoich znajomych i wb
 ijajcie do klubu na największą imprezę roku! ?\n\nOprócz tego coś co 
 zawsze spotkacie na naszych imprezach!\nOpaski FLUO\n- Czerwony - Zajęty 
 ?\n- Pozostałe kolory - Wolny i szukam zabawy ?\n\nPamiętaj! Liceum to n
 ie tylko nauka – to też najlepszy okres życia – czas na imprezy! Zap
 raszamy również jeśli chodzisz do technikum :).\n______________________
 ________________________________\n\nPodsumowanie!\n◄◄ Klub Pomarańcza
  - Bezsprzecznie najważniejszy punkt na imprezowej mapie we wrześniu \;)
 !\n◄◄ Start 21:00 - 20 września 2019\n◄◄ Wejściówki:\n- przedsp
 rzedaż: 15zł\n- bramka: 20zł\n◄◄ Wstęp 16+\n◄◄ Selekcja: Casua
 l / Elegant - Impreza odbywa się w klubie - liczymy więc na osoby szukaj
 ące tylko dobrej zabawy! \n\n____________________________________________
 _______\n\n❗❗ Poświęć 3 minuty i WEJDŹ ZA DARMO ❗❗\nChcesz wej
 ść za darmo na imprezę jak VIP ??! Wystarczy że zaprosisz znajomych na
  wydarzenie! (próg minimalny to 300 znajomych!) i wrzucisz screen na tabl
 icę wydarzenia gdy to robisz! Oprócz tego wystarczy udostępnić wydarze
 nie i darmowa wejściówka jest Twoja! Nic prostszego ?! Ilość darmowych
  wejść jest ograniczona więc radzimy się śpieszyć!\n________________
 ___________________________________\n\n❗❗ UWAGA ❗❗ Chcesz zostać 
 naszym promotorem\, dorobić do kieszonkowego i świetnie się bawić? Nap
 isz do nas na fanpage i zostaw swój numer telefon oraz napisz\, z któreg
 o miasta jesteś :). Odezwiemy się na pewno!
ATTACH;FMTTYPE=image/jpeg:https://night4u.pl/wp-content/uploads/2019/09/63
 922_image_70296979_2490825370996866_6266183609271451648_o.jpg
CATEGORIES:śląskie
LOCATION:Klub Pomarańcza Bielsko-Biała\, Grażyńskiego 38\, Bielsko-Bia
 ła\, 43-382\, Poland
GEO:49.832975;19.049502
X-APPLE-STRUCTURED-LOCATION;VALUE=URI;X-ADDRESS=Grażyńskiego 38\, Bielsko
 -Biała\, 43-382\, Poland;X-APPLE-RADIUS=100;X-TITLE=Klub Pomarańcza Biel
 sko-Biała:geo:49.832975,19.049502
END:VEVENT
BEGIN:VTIMEZONE
TZID:Europe/Warsaw
X-LIC-LOCATION:Europe/Warsaw
BEGIN:DAYLIGHT
DTSTART:20190331T030000
TZOFFSETFROM:+0100
TZOFFSETTO:+0200
TZNAME:CEST
END:DAYLIGHT
END:VTIMEZONE
END:VCALENDAR