BEGIN:VCALENDAR
VERSION:2.0
PRODID:-//wp-events-plugin.com//7.2.3.1//EN
TZID:Europe/Warsaw
X-WR-TIMEZONE:Europe/Warsaw
BEGIN:VEVENT
UID:28588@night4u.pl
DTSTART;TZID=Europe/Warsaw:20191017T210000
DTEND;TZID=Europe/Warsaw:20191018T050000
DTSTAMP:20200331T205349Z
URL:https://night4u.pl/wydarzenia/otrzesiny-studentow-politechniki-lubelsk
 iej/
SUMMARY:Otrzęsiny Studentów Politechniki Lubelskiej
DESCRIPTION:Tak się bawi\, tak się bawi...?!\nWecie\, że jak Polibuda to
  melanż będzie epicki... i niepamiętany. \n\nJak początek roku akademi
 ckiego to OTRZĘSINY!\nW SilenceClub początek kolejnego semestru święto
 wać będą Studenci Politechniki Lubelskiej!\n\nWięc streszczając:\nAlk
 ohol będzie\nMuzyka będzie\nTowarzystwo będzie\nOtrzęsiny? Będą!\n\n
 I to takie których baaaaaardzo długo nie zapomnicie!\n__________________
 ________________________________\n\nStart 21:00\nKlub zastrzega sobie praw
 o do selekcji gości +18.\n_______________________________________________
 ___\n\nInfo o biletach:\nBilety w cenie 8 zł (na bramce w dniu imprezy 15
  zł) \nDo kupienia:\nu mobilnych sprzedawców.\n\nKontakt do osób z bile
 tami:\nMichał (WIŚ) 518 185 640\nŻaneta(WPT) 789 330 222\nPatryk (WBiA)
  504 510 601\nŁukasz (WEiI) 668 247 979\nKacper (WM) 795 941 165\nKarolin
 a (WZ) 724 111 556\n\nDodatkowo możecie dostać je w akademiku:\nDS1 p.90
 2 i 904!\n\nW ofercie dla Was tego wieczora mamy:\nPromki na barze wkrótc
 e\n\nHity zagra dla nas DJ Marsel/ DJ Logan \n____________________________
 ______________________\n\nZnajdź nas również na:\nSnapchat: silence_clu
 b || Instagram: @silenceclub\n\n17 października 2019 SilenceClub\nRadzisz
 ewskiego 8\nLublin
ATTACH;FMTTYPE=image/jpeg:https://night4u.pl/wp-content/uploads/2019/10/66
 163_image_72294281_3348482835176702_1683812185748275200_o.jpg
CATEGORIES:lubelskie
LOCATION:SilenceClub\, Radziszewskiego 8\, Lublin\, 20-031\, Poland
GEO:51.246457;22.543797
X-APPLE-STRUCTURED-LOCATION;VALUE=URI;X-ADDRESS=Radziszewskiego 8\, Lublin\
 , 20-031\, Poland;X-APPLE-RADIUS=100;X-TITLE=SilenceClub:geo:51.246457,22.
 543797
END:VEVENT
BEGIN:VTIMEZONE
TZID:Europe/Warsaw
X-LIC-LOCATION:Europe/Warsaw
BEGIN:DAYLIGHT
DTSTART:20190331T030000
TZOFFSETFROM:+0100
TZOFFSETTO:+0200
TZNAME:CEST
END:DAYLIGHT
END:VTIMEZONE
END:VCALENDAR