BEGIN:VCALENDAR
VERSION:2.0
PRODID:-//wp-events-plugin.com//7.2.3.1//EN
TZID:Europe/Warsaw
X-WR-TIMEZONE:Europe/Warsaw
BEGIN:VEVENT
UID:35538@night4u.pl
DTSTART;TZID=Europe/Warsaw:20191115T210000
DTEND;TZID=Europe/Warsaw:20191116T040000
DTSTAMP:20191116T003335Z
URL:https://night4u.pl/wydarzenia/otrzesiny-wydzialu-chemii-fizyki-matemat
 yki-informatyki-15-11/
SUMMARY:Otrzęsiny Wydziału Chemii Fizyki Matematyki Informatyki :: 15.11
DESCRIPTION:Już 15 listopada zapraszamy na ścisłe ostatki czyli Otrzęsi
 ny wydziału  Chemii\, Matematyki\, Fizyki oraz Informatyki. Bierzcie znaj
 omych\, przyjaciół i wpadajcie na Okopową 5! \n\nWejściówki:  \nPrzed
 sprzedaż 5zł  \nSiedziba Samorządu Studentów Wydziału Chemia p.28 (bu
 dynek Małej Chemii\, piętro 1)  \nSiedziba Samorządu Studentów Wydzia
 łu Matematyki\, Fizyki i Informatyki (p. 114\, Instytut Informatyki) \n\n
 Mobilni Sprzedawcy:  \nKarina tel. 534108742 (Chemia) \nKlaudia tel. 51774
 3992 (Chemia) \nAdam tel. 572311517 (MFI)\nDaniel tel. 693195903 (MFI)  \n
 \n✖ START: 21:00 ✖\n\n\nDress code:\nElegant Casual \n\n\nRezerwacje m
 iejsc / Seats &amp\; tables:\n💬 Messenger \n📧 club@themistclub.eu\n
 ☎ +48 512 375 356
ATTACH;FMTTYPE=image/jpeg:https://night4u.pl/wp-content/uploads/2019/11/93
 524_image_75388346_456188428583408_6784971626623533056_o.jpg
CATEGORIES:lubelskie
LOCATION:The Mist Club\, Okopowa 5\, Lublin\, 20-022\, Poland
GEO:51.246111;22.556115
X-APPLE-STRUCTURED-LOCATION;VALUE=URI;X-ADDRESS=Okopowa 5\, Lublin\, 20-022
 \, Poland;X-APPLE-RADIUS=100;X-TITLE=The Mist Club:geo:51.246111,22.556115
END:VEVENT
BEGIN:VTIMEZONE
TZID:Europe/Warsaw
X-LIC-LOCATION:Europe/Warsaw
BEGIN:STANDARD
DTSTART:20191027T020000
TZOFFSETFROM:+0200
TZOFFSETTO:+0100
TZNAME:CET
END:STANDARD
END:VTIMEZONE
END:VCALENDAR