BEGIN:VCALENDAR
VERSION:2.0
PRODID:-//wp-events-plugin.com//7.2.3.1//EN
TZID:Europe/Warsaw
X-WR-TIMEZONE:Europe/Warsaw
BEGIN:VEVENT
UID:4499@night4u.pl
DTSTART;TZID=Europe/Warsaw:20190222T200000
DTEND;TZID=Europe/Warsaw:20190222T223000
DTSTAMP:20190120T192135Z
URL:https://night4u.pl/wydarzenia/otsochodzi-milosc-torun/
SUMMARY:Otsochodzi - Miłość - Toruń
DESCRIPTION:Zapraszamy na premierowy koncert Otsochodzi w Toruniu z nowym m
 ateriałem. Premiera płyty "Miłość" (Asfalt Records) zaplanowana jest 
 na 01.02.2019.\nZa gramofonami Otso wspierał będzie Phunk'ill\n\nBilety 
 on line: https://going.pl/otsochodzi-torun\nI PULA: 30 zł (WYPRZEDANA) | 
 II PULA: 35 zł | III PULA: 40 zł
ATTACH;FMTTYPE=image/jpeg:https://night4u.pl/wp-content/uploads/2019/01/14
 856_image_49708572_1937952492919448_5616784124619522048_o.jpg
CATEGORIES:kujawsko-pomorskie
LOCATION:NRD Klub\, Browarna 6\, Torun\, 87-100\, Poland
GEO:53.011128;18.612081
X-APPLE-STRUCTURED-LOCATION;VALUE=URI;X-ADDRESS=Browarna 6\, Torun\, 87-100
 \, Poland;X-APPLE-RADIUS=100;X-TITLE=NRD Klub:geo:53.011128,18.612081
END:VEVENT
BEGIN:VTIMEZONE
TZID:Europe/Warsaw
X-LIC-LOCATION:Europe/Warsaw
BEGIN:STANDARD
DTSTART:20181028T020000
TZOFFSETFROM:+0200
TZOFFSETTO:+0100
TZNAME:CET
END:STANDARD
END:VTIMEZONE
END:VCALENDAR