BEGIN:VCALENDAR
VERSION:2.0
PRODID:-//wp-events-plugin.com//7.2.3.1//EN
TZID:Europe/Warsaw
X-WR-TIMEZONE:Europe/Warsaw
BEGIN:VEVENT
UID:19690@night4u.pl
DTSTART;TZID=Europe/Warsaw:20190620T200000
DTEND;TZID=Europe/Warsaw:20190621T050000
DTSTAMP:20190619T105946Z
URL:https://night4u.pl/wydarzenia/otwarcie-sezonu-w-shark-village/
SUMMARY:Otwarcie Sezonu W Shark Village!
DESCRIPTION:Odpalamy! ???\nRekiny\, najwyższy czas wystartować z sezonem.
 \n\nPrzy upalnej pogodzie proponujemy wyskoczyć nad jezioro Białe\, a na
 stępnie wieczorem ugasić pragnienie na naszym barze. Doborowa ekipa zadb
 a o najbardziej wybredne gusta!\n\nOpiekę nad parkietem oddaliśmy zaufan
 ym ludziom i jesteśmy pewni\, że DJ Young i DJ Szejq rozkręcą solidną
  imprezę!\n\nŚledzcie nasz profil\, informację o kolejnych imprezach b
 ędą pojawiać się systematycznie!\n\n\nOTWARCIE SEZONU W SHARKU!\n20.06
  (CZWARTEK)\nSTART GODZINA 20:00
ATTACH;FMTTYPE=image/jpeg:https://night4u.pl/wp-content/uploads/2019/06/47
 432_image_63462388_2212396582214045_5034758245751717888_o.jpg
CATEGORIES:lubelskie
LOCATION:Shark Village\, Okuninka\, 22-200\, Poland
GEO:51.500401;23.541805
X-APPLE-STRUCTURED-LOCATION;VALUE=URI;X-ADDRESS=Okuninka\, 22-200\, Poland;
 X-APPLE-RADIUS=100;X-TITLE=Shark Village:geo:51.500401,23.541805
END:VEVENT
BEGIN:VTIMEZONE
TZID:Europe/Warsaw
X-LIC-LOCATION:Europe/Warsaw
BEGIN:DAYLIGHT
DTSTART:20190331T030000
TZOFFSETFROM:+0100
TZOFFSETTO:+0200
TZNAME:CEST
END:DAYLIGHT
END:VTIMEZONE
END:VCALENDAR