BEGIN:VCALENDAR
VERSION:2.0
PRODID:-//wp-events-plugin.com//7.2.3.1//EN
TZID:Europe/Warsaw
X-WR-TIMEZONE:Europe/Warsaw
BEGIN:VEVENT
UID:2010@night4u.pl
DTSTART;TZID=Europe/Warsaw:20190108T190000
DTEND;TZID=Europe/Warsaw:20190108T203000
DTSTAMP:20181231T132611Z
URL:https://night4u.pl/wydarzenia/otwarte-zajecia-barmanskie-z-waldasem-x-
 wstep-wolny/
SUMMARY:Otwarte Zajęcia Barmańskie z Wałdasem. x Wstęp wolny.
DESCRIPTION:Cotygodniowe otwarte zajęcia barmańskie.\n\nWstęp mają wszy
 scy zainteresowani sztuką barmańską. Nie ważne czy kiedyś stałaś/st
 ałeś za barem. Czy pracujesz w małym\, lokalnym barze czy dużym klubie
 . Czy jesteś zaawansowana/zaawansowany czy nie potrafisz nic. Tutaj jeste
 ś mile widziany. \n\nZajęcia są bezpłatne.\n\nPodczas zajęć zdarzaj
 ą się degustacje\, dlatego wstęp wyłącznie dla osób pełnoletnich.\n
 \nKażde zajęcia to 50% teorii i 50% praktyki. Pierwsza część to omów
 ienie teoretyczne zagadnień aby w dalszej części sprawdzić teorię w p
 raktyce.
ATTACH;FMTTYPE=image/jpeg:https://night4u.pl/wp-content/uploads/2018/12/80
 21_image_46496001_2221824711429131_3721074612017037312_n.jpg
CATEGORIES:kujawsko-pomorskie
LOCATION:Gramofon Klub Brodnica\, Przykop 53\, Brodnica\, 87-300\, Poland
GEO:53.254299;19.405281
X-APPLE-STRUCTURED-LOCATION;VALUE=URI;X-ADDRESS=Przykop 53\, Brodnica\, 87-
 300\, Poland;X-APPLE-RADIUS=100;X-TITLE=Gramofon Klub Brodnica:geo:53.2542
 99,19.405281
END:VEVENT
BEGIN:VTIMEZONE
TZID:Europe/Warsaw
X-LIC-LOCATION:Europe/Warsaw
BEGIN:STANDARD
DTSTART:20181028T020000
TZOFFSETFROM:+0200
TZOFFSETTO:+0100
TZNAME:CET
END:STANDARD
END:VTIMEZONE
END:VCALENDAR