BEGIN:VCALENDAR
VERSION:2.0
PRODID:-//wp-events-plugin.com//7.2.3.1//EN
TZID:Europe/Warsaw
X-WR-TIMEZONE:Europe/Warsaw
BEGIN:VEVENT
UID:44130@night4u.pl
DTSTART;TZID=Europe/Warsaw:20200129T193000
DTEND;TZID=Europe/Warsaw:20200129T233000
DTSTAMP:20200129T170654Z
URL:https://night4u.pl/wydarzenia/otwarty-mikrofon-open-mic-vol-5/
SUMMARY:Otwarty Mikrofon - open mic Vol.5
DESCRIPTION:Zapraszamy na piątą noworoczną edycję nietuzinkowego wydarz
 enia\, jakim jest Otwarty Mikrofon - open mic w Klubie Harenda. \n\n29 sty
 cznia w środę widzimy się Harendowej Piwnicy na Krakowskim Przedmieści
 u 4 w Warszawie.(wejście róg Oboźnej i Karasia)\n\nZapraszamy wokalist
 ów\, instrumentalistów\, standuperów wierszopisarzy - wszelkiego rodzaj
 u twórców i artystów!\nPodczas wydarzenia możecie zaprezentować dowol
 ną formę artystyczną\, której to czas nie przekroczy 5 minut. (plus\, 
 minus - nie jesteśmy formalistami \;))\nUwaga! Jeśli będzie Wam potrzeb
 ny\, pamiętajcie przynieście podkład - usb)\nZapisy odbywają się w dn
 iu i na miejscu wydarzenia\, od godziny 19:30.\n\nNowością będzie głos
 owanie na performera*\, który Wam się najbardziej spodobał. Najciekawsz
 y\, waszym zdaniem\, wykonawca dostanie karafkę wina do spożycia w lokal
 u.\nGłosowania będą dwa - w połowie eventu i na koniec\, warto wieć z
 ostać z nami całą imprezę. :)\n\nProwadzić będzie:\nŁukasz Karaskie
 wicz z warszawskiego składu Kapral Zajączek\n\nWstęp: 8zł\n(za wejści
 e płacą wszyscy\, zarówno publiczność\, jak i występujący\, a wszys
 tkie zebrane środki pokrywają koszta organizacji wydarzenia)\n\n*głosow
 anie odbywa sie przy zgromadzeniu min 40 osób na sali\, więc przyprowadz
 ajcie znajomych \;)
ATTACH;FMTTYPE=image/jpeg:https://night4u.pl/wp-content/uploads/2020/01/14
 1891_image_82678462_170208864320296_8231488634499366912_n.jpg
CATEGORIES:mazowieckie
LOCATION:Klub Harenda\, Krakowskie Przedmieście 4\, Srodmiescie\, 00-325\,
  Poland
GEO:52.238783;21.018876
X-APPLE-STRUCTURED-LOCATION;VALUE=URI;X-ADDRESS=Krakowskie Przedmieście 4\
 , Srodmiescie\, 00-325\, Poland;X-APPLE-RADIUS=100;X-TITLE=Klub Harenda:ge
 o:52.238783,21.018876
END:VEVENT
BEGIN:VTIMEZONE
TZID:Europe/Warsaw
X-LIC-LOCATION:Europe/Warsaw
BEGIN:STANDARD
DTSTART:20191027T020000
TZOFFSETFROM:+0200
TZOFFSETTO:+0100
TZNAME:CET
END:STANDARD
END:VTIMEZONE
END:VCALENDAR