BEGIN:VCALENDAR
VERSION:2.0
PRODID:-//wp-events-plugin.com//7.2.3.1//EN
TZID:Europe/Warsaw
X-WR-TIMEZONE:Europe/Warsaw
BEGIN:VEVENT
UID:4899@night4u.pl
DTSTART;TZID=Europe/Warsaw:20190312T173000
DTEND;TZID=Europe/Warsaw:20190312T230000
DTSTAMP:20190122T193547Z
URL:https://night4u.pl/wydarzenia/overkill-destruction-faj-meshiaak-12-iii
 -wroclaw/
SUMMARY:Overkill + Destruction\, FaJ\, Meshiaak / 12 III / Wrocław
DESCRIPTION:Knock Out Productions oraz Klub B90 zapraszają na dwa koncerty
  Overkill w Polsce!\n\nOverkill przyjedzie do naszego kraju w doskonałym 
 towarzystwie Destruction\, Flotsam And Jetsam oraz Meshiaak. Na dwa wieczo
 ry pełne thrash metalowego szaleństwa zapraszamy 12 marca do wrocławski
 ego A2 oraz dzień później 13 marca do gdańskiego Klubu B90.\n\nPrzedsp
 rzedaż biletów na koncert startuje w najbliższy poniedziałek 23 lipca.
  Druki kolekcjonerskie będzie można zakupić na: https://sklep.knockoutp
 rod.net (koncert we Wrocławiu) oraz https://tickets.soundrive.pl (koncert
  w Gdańsku).\n\n\n✅ OVERKILL (USA) thrash metal:\n\nNiezniszczalna zał
 oga przesympatycznego Bobby'ego "Blitza" Ellswortha i Carlosa "DD" Vernieg
 o zdaje się przeczyć prawom biologii. Choć istnieje już blisko cztery 
 dekady\, od wielu lat trzyma wspaniały poziom na albumach i koncertach\, 
 będąc jednymi z najwspanialszych ambasadorów thrash metalu. Wydany nied
 awno materiał live "Live in Overhausen"\, zarejestrowany w niemieckim Obe
 rhausen\, tylko to potwierdza.\n\nOverkill ma od lat wypracowany schemat d
 ziałania\, który realizuje perfekcyjnie. Album studyjny (ostatni to znak
 omity "Grinding Wheel" z 2017 roku)\, a potem 1\,5 roku do dwóch lat w tr
 asie koncertowej\, następnie krótka przerwa i znowu do studia. Wydawać 
 by się mogło\, że taki mechanizm może znudzić\, ale na pewno nie Amer
 ykanów. Na płytach zamieszczają świetne piosenki\, a na żywo dają z 
 siebie wszystko.\n\nBlitz w wolnych od muzyki chwilach prowadzi z żoną s
 klep z ekskluzywnymi czekoladami\, DD ma studio nagraniowe\, z którego Ov
 erkill od lat korzysta. Do kolejnej wizyty w Polsce Overkill z pewnością
  przygotuje kolejną porcję muzycznych thrashowych smakowitości\, które
  w koncertowej setliście zmiesza ze swoimi najsłynniejszymi kawałkami. 
 Na bębnach zagra je Jason Bittner\, znakomity amerykański bębniarz\, kt
 óry w 2017 roku opuścił Flotsam And Jetsam\, aby współpracować z Ove
 rkill\, który pożegnał się z Ronem Lipnickim.\n\nSprawdź\, jeśli lub
 isz: Exodus\, Anthrax\, Megadeth\, Nuclear Assault\, Metallica...\n\nhttp:
 //wreckingcrew.com\nhttps://www.facebook.com/OverkillWreckingCrew\nhttps:/
 /www.youtube.com/watch?v=GSbgxG-jLMU\n\n✅ DESTRUCTION (Niemcy) thrash me
 tal:\n\nKolejna legenda thrash metalu w zestawie. Obok Kreator i Sodom poc
 hodzący z Badenii -Wirtembergii zespół Destruction jest jednym z najwyb
 itniejszych przedstawicieli tego gatunku w Europie. Nie można być fanem 
 thrash metalu i nie znać tej nazwy.\n\nDestruction z paroletnią przerwą
  funkcjonuje od 1982 roku aż do dziś. Liderem\, wokalistą i basistą ka
 peli jest Marcel "Schmier" Schirmer\, któremu sekunduje gitarzysta Mike S
 ifringer. Obaj pamiętają początki kapeli\, obaj nagrali tak wielkopomne
  płyty\, jak "Sentence Of Death"\, "Infernal Overkill"\, "Eternal Devasta
 tion" oraz kultowe numery – "Curse The Gods"\, "Bestial Invasion"\, "Lif
 e Without Sense"\, "Black Mass" i wiele innych.\n\nPrzez osiem lat Schmier
 a i Mike'a wspierał na perkusji nasz rodak\, Wawrzyniec "Vaaver" Dramowic
 z. Obecnie gra z nimi znany\, chociażby z Annihilator i Primal Fear Randy
  Black. Ostatnią regularną pozycją w dorobku Destruction jest wydany w 
 2016 roku album "Under Attack". Rok później ukazał się zbiór ponownie
  nagranych (jeszcze z Vaaverem) klasycznych numerów kapeli pod nazwą "Th
 rash Anthems II" wzbogaconych o przeróbkę klasyka Dead Kennedys "Holiday
  In Cambodia".\n\nSprawdź\, jeśli lubisz: Kreator\, Sodom\, Tankard\, De
 athrow\, Slayer\, Exhumer\, Protector...\n\nhttp://www.destruction.de\nhtt
 ps://www.facebook.com/destruction\nhttps://www.youtube.com/watch?v=KNmbUDA
 0Spg\n\n✅ FLOTSAM AND JETSAM (USA) thrash metal:\n\nNiewiele młodsza st
 ażem od Overkill i Destruction jest amerykańska grupa Flotsam And Jetsam
 . Działa pod tą nazwą od 1984 roku\, a powstała w gorącym Phoenix w A
 rizonie. Choć nie osiągnęła wielkich sukcesów komercyjnych\, na jej k
 oncie znajduje się parę znakomitych albumów\, które dziś są już uzn
 awane za thrashową klasykę. Chodzi oczywiście o debiutancki materiał "
 Doomsday For The Deceiver" (1986) i pracował nad kolejnym\, "No Place For
  Disgrace" (1988)\, z kapitalnym coverem "Saturday's Night Allright For Fi
 ghting" Eltona Johna.\n\nWłaśnie we Flotsam And Jetsam muzyczną karier
 ę zaczynał Jason Newsted i tego zespołu odszedł w 1986 roku po tragicz
 nej śmierci Cliffa Burtona do Metalliki. Po jego odejściu kapeli wiodło
  się różnie\, nie zawsze najlepiej. Przede wszystkim pod względem jako
 ści płyt. Zwyżka formy nastąpiła dopiero w drugiej połowie XXI wieku
  dzięki albumom "The Cold" i "Ugly Noise" oraz wydanym wiosną 2016 roku 
 "Flotsam & Jetsam". Ten materiał FAJ\, w którego składzie jest wciąż 
 trzech muzyków z początków kapeli\, wokalista Erik "A.K." Knutson\, git
 arzysta Michael Gilbert oraz basista Michael Spencer\, promował także w 
 Polsce.\n\nTeraz Amerykanie powracają do Polski w nieco zmienionym skład
 zie. Do Overkill odszedł z Flotsamów znakomity bębniarz Jason Bittner (
 znamy go także z Shadow's Fall)\, a na jego miejsce przyszedł Ken Mary. 
 Perkusista z wybitnym CV\, w którym jest\, chociażby słynny mieszkaniec
  Phoenix\, Alice Cooper. Skład uzupełnia gitarzysta Steve Conley.\n\nSpr
 awdź\, jeśli lubisz: Sacred Reich\, Metal Chruch\, Death Angel\, Heathen
 \, Agent Steel...\n\nhttp://www.flotsam-and-jetsam.com\nhttps://www.facebo
 ok.com/flotsamandjetsam.official\nhttps://www.youtube.com/watch?v=fQ77YEze
 m_I\n\n✅ MESHIAAK (Australia) progmetal\, thrash metal:\n\nMłodzieżą 
 w tym zacnym zestawie będących w doskonałej formie weteranów\, jest po
 chodząca z australijskiego Melbourne i założona w 2014 roku formacja Me
 shiaak. Tworzą ją Dean Wells (gitara\, wokal)\, Danny Camilleri (gitara\
 , wokal) i Nick Walker (gitara basowa). Na ich koncie jest na razie jeden 
 album\, ale za to jaki! "Alliance Of Thieves" z 2016 roku\, wydany przez w
 ytwórnię Mascot\, to świetny pomost rzucony pomiędzy metalem progresyw
 nym a soczystym i szybkim technicznym thrash metalem\, w którym odbijają
  się echa najlepszych dokonań Testament\, Exodus i Machine Head.\n\nSpra
 wdź\, jeśli lubisz: Trivium\, Machine Head\, Testament\, Fates Warning\,
  Exodus...\n\nhttp://www.meshiaak.com\nhttps://www.facebook.com/meshiaak\n
 https://www.youtube.com/watch?v=tln_ZKt611g\n\n\nZagrają:\nOVERKILL (USA)
  thrash metal\n+\nDestruction (Niemcy) thrash metal\nFlotsam And Jetsam (U
 SA) thrash metal\nMeshiaak (Australia) progmetal\, thrash metal\n\nKiedy: 
 12 marca (wtorek) 2019\nGdzie: Wrocław @ A2\, ul. Góralska 5\nBilety: 95
  zł – przedsprzedaż\, 110 zł – w dniu koncertu\nOrganizator: Knock 
 Out Productions\n\nBilety na koncert dostępne na:\nWrocław: https://skle
 p.knockoutprod.net\noraz:\nEventim\n\nGdańsk:  https://tickets.soundrive.
 pl\n\n\nZapraszają\nKnock Out Productions	\nhttp://www.knockoutprod.net\n
 https://www.facebook.com/productions.knock.out\nhttps://www.instagram.com/
 knockoutprod\nB90\nhttp://www.b90.pl\nhttps://www.facebook.com/B90klub
ATTACH;FMTTYPE=image/jpeg:https://night4u.pl/wp-content/uploads/2019/01/15
 608_image_37328887_1860284553994303_8165758523720859648_o.jpg
CATEGORIES:dolnośląskie
END:VEVENT
BEGIN:VTIMEZONE
TZID:Europe/Warsaw
X-LIC-LOCATION:Europe/Warsaw
BEGIN:STANDARD
DTSTART:20181028T020000
TZOFFSETFROM:+0200
TZOFFSETTO:+0100
TZNAME:CET
END:STANDARD
END:VTIMEZONE
END:VCALENDAR