BEGIN:VCALENDAR
VERSION:2.0
PRODID:-//wp-events-plugin.com//7.2.3.1//EN
TZID:Europe/Warsaw
X-WR-TIMEZONE:Europe/Warsaw
BEGIN:VEVENT
UID:51248@night4u.pl
DTSTART;TZID=Europe/Warsaw:20210828T210000
DTEND;TZID=Europe/Warsaw:20210829T050000
DTSTAMP:20210827T134938Z
URL:https://night4u.pl/wydarzenia/owca-w-trzech-odslonach-fb-free-do-2300/
SUMMARY:Owca w trzech odsłonach/FB free do 23:00!
DESCRIPTION:W soboty leeecimy z cyklem imprez w trzech różnych klimatach 
 muzycznych na trzech salach w jednym klubie\, czyli: OWCA W TRZECH ODSŁON
 ACH. 😈\n\n \nNieważne\, czy jesteś jedną z trzech gracji\, jednym z 
 trzech króli\, czy może masz wszystko w… sobie. W Czarnej Owcy na pewn
 o znajdziesz coś dla siebie\, do Waszej dyspozycji otwarte są trzy sale:
 \n \n\n⭐️Główna na której tej nocy Dj Bart Enmore będzie grał naj
 większe hity i mixy ostatnich lat oraz stare przeboje w najnowszych aran
 żacjach porzeplatane tłustymi rapowo-hip-hopowymi sztosami.😎\n\n⭐
 ️Disco (znajdująca się obok głównej\, tuż za zabytkowym silnikiem o
 d windy)\, na której Dj Sikor będzie miksował klasyki Disco również w
  nowych aranżacjach oraz najnowsze przeboje\, które dopiero stają się 
 hiciorami sezonu.😎\n\n⭐️Latino (na górnym poziomie)\, na której g
 ramy muzykę Latino oraz kawałki\, które sprawią\, że nawet nie poczuj
 esz jak już tańcujesz. Każdy kuma tutaj kocie ruchy.😎\n\nDo Waszej d
 yspozycji barmani\, którzy spełnią Wasze wszystkie potrzeby\, marzenia 
 i inne zachcianki\, które zmieszczą się do szklanki i nie tylko.😏\n\
 nZa główną salą znajduje się dodatkowa sala uciech\, jeżeli tylko kr
 ęci Cię gra w piłkarzyki\, pobijanie kolejnych rekordów na boxerze lub
  kopaczu albo chcesz wyciągnąć jakąś fajną maskotkę dla siebie lub 
 kogoś innego. Można też tam spokojnie odpocząć i oddać się np. konw
 ersacji + konsumpcji.😇\n\nJeżeli najdzie Was chęć\, żeby zapalić\,
  tuż obok powyższej sali znajduje się palarnia. A przy wejściu do klub
 u nasz letni ogródek.😏\n\nCzy potrzeba czegoś więcej? Tylko Was\, wi
 ęc czekamy i do zobaczenia\, a do tego wszystko zgodnie z obowiązującym
 i zaleceniami i obostrzeniami sanitarnymi.😇\n\n _______________________
 ______\n\nPromocje otwarcia*\n\n⭐️Do 23:00 z polubionym Facebook Klubu
 \;\n- Beee... 4 czyli Wódka Pniewska 0\,5L za 49zł (po 23:00 za 99zł)!\
 n- Whisky + Cola/7Up za 12zł (po 23:00 za 17zł)!\n- Tequila Sunrise za 1
 2zł (po 23:00 za 17zł)!\n- Piwo Namysłów Pils 0\,5L za 6zł (po 23:00 
 za 8zł)!\n\n⭐️Sobotnie i Niedzielne Gastro VIP party: 05:00-10:00.\n-
  Specjalna oferta dla Gastro Owieczek.\n*Promocje mogą być zmieniane lub
  nie obowiązywać w przypadku np. imprez zamkniętych lub jeżeli kierown
 ictwo klubu zdecyduje o takiej zmianie. Informacje o takich zmianach powin
 ny być dostępne na stronie www/Facebook klubu lub u menagera. O dodatkow
 e promocje pytaj na barze.\nProsimy o zapoznanie się z nowym regulaminem 
 klubu obejmującym aktualne zasady i ograniczenia (wejście do klubu oznac
 za jego akceptację i stosowanie się do postanowień w nim zawartych). Re
 gulamin dostępny na stronie www oraz w samym klubie.\n\n_________________
 ____________\n\nDo 22:30 wstęp free\, od 22:30:\nPanie 10 zł (drink Owca
  welcome to free)\nPanowie 20 zł (drink Owca welcome to free)\nWszystkie 
 osoby z polubionym profilem Facebook klubu wstęp FREE DO GODZINY 23:00!
ATTACH;FMTTYPE=image/jpeg:https://night4u.pl/wp-content/uploads/2021/08/18
 6736_image_226397628_1297624010656408_6232501529229344837_n.jpg
CATEGORIES:wielkopolskie
END:VEVENT
BEGIN:VTIMEZONE
TZID:Europe/Warsaw
X-LIC-LOCATION:Europe/Warsaw
BEGIN:DAYLIGHT
DTSTART:20210328T030000
TZOFFSETFROM:+0100
TZOFFSETTO:+0200
TZNAME:CEST
END:DAYLIGHT
END:VTIMEZONE
END:VCALENDAR