BEGIN:VCALENDAR
VERSION:2.0
PRODID:-//wp-events-plugin.com//7.2.3.1//EN
TZID:Europe/Warsaw
X-WR-TIMEZONE:Europe/Warsaw
BEGIN:VEVENT
UID:10430@night4u.pl
DTSTART;TZID=Europe/Warsaw:20190322T230000
DTEND;TZID=Europe/Warsaw:20190323T070000
DTSTAMP:20190318T195955Z
URL:https://night4u.pl/wydarzenia/p23-pl-techno-with-vtss-michal-wolski-mi
 chal-jablonski/
SUMMARY:P23: PL.Techno with VTSS\, Michał Wolski\, Michał Jabłoński
DESCRIPTION:PL.Techno to nowy cykl w P23\, skupiający się wyłącznie na 
 selekcji polskich artystów działających prężnie na polskiej i między
 narodowej scenie techno. Chcemy przypomnieć śląskiej publiczności\, ja
 k wiele dobrego czeka ją na swoim własnym\, elektronicznym podwórku.\n\
 n⚡️ VTSS\n⚡️ Michał Wolski Live \n⚡️ Michal Jablonski Hybrid\
 n⚡️ scki.\n⚡️ NVYSN\n\nWlot 20 zł\nLista FB Free do 01:00
ATTACH;FMTTYPE=image/jpeg:https://night4u.pl/wp-content/uploads/2019/03/27
 528_image_53701900_2197768996935580_341761113362268160_o.jpg
CATEGORIES:śląskie
LOCATION:P23 Katowice\, ul. Porcelanowa 23\, Katowice\, 40-246\, Poland
GEO:50.25484;19.061829
X-APPLE-STRUCTURED-LOCATION;VALUE=URI;X-ADDRESS=ul. Porcelanowa 23\, Katowi
 ce\, 40-246\, Poland;X-APPLE-RADIUS=100;X-TITLE=P23 Katowice:geo:50.25484,
 19.061829
END:VEVENT
BEGIN:VTIMEZONE
TZID:Europe/Warsaw
X-LIC-LOCATION:Europe/Warsaw
BEGIN:STANDARD
DTSTART:20181028T020000
TZOFFSETFROM:+0200
TZOFFSETTO:+0100
TZNAME:CET
END:STANDARD
END:VTIMEZONE
END:VCALENDAR