BEGIN:VCALENDAR
VERSION:2.0
PRODID:-//wp-events-plugin.com//7.2.3.1//EN
TZID:Europe/Warsaw
X-WR-TIMEZONE:Europe/Warsaw
BEGIN:VEVENT
UID:27505@night4u.pl
DTSTART;TZID=Europe/Warsaw:20191012T200000
DTEND;TZID=Europe/Warsaw:20191012T230000
DTSTAMP:20190914T110808Z
URL:https://night4u.pl/wydarzenia/pablopavo-i-ludziki-z-naprawde-duzym-zes
 polem-we-wroclawiu/
SUMMARY:Pablopavo i Ludziki z Naprawdę Dużym Zespołem we Wrocławiu!
DESCRIPTION:Pablopavo i Ludziki z Naprawdę Dużym Zespołem we Wrocławiu!
 \n\nwROCKfest.pl zaprasza 12 października do Sali Gotyckiej w Starym Klas
 ztorze na premierową odsłonę projektu Pablopavo i Ludziki z Naprawdę D
 użym Zespołem!\nPablopavo po doskonale przyjętej płycie Marginal i nie
 malże wyprzedanej wiosennej trasie koncertowej zapowiada wyjątkowy konce
 rt z nowym projektem muzycznym:\n"Tym razem wystąpimy z Naprawdę Dużym 
 Zespołem. Będą instrumenty drewniane i blaszane\, będą dodatkowe gło
 sy\, pohukiwania\, harmonie niższych sfer. Jak wszystko pójdzie sprawnie
 \, to będzie całkiem premierowy materiał. Żadne tam Pablopavo symfonic
 znie. Świeże dania."\n\nW Bardzo Dużym Zespole oprócz Ludzików wystą
 pią: Miki Wielecki\, Patryk Kraśniewski\, Lena Romul oraz Paweł Szambur
 ski.\n\n\n12.10.19 godz.20.00 Sala Gotycka w Starym Klasztorze\, ul. Purky
 niego 1\nPABLOPAVO I LUDZIKI Z NAPRAWDĘ DUŻYM ZESPOŁEM\nbilety: 60 zł 
 - I pula\nmiejsca siedzące ( balkon): 75 zł\n\nBilety dostępne w sieci 
 salonów Empik i MediaMarkt w całej Polsce\noraz w serwisach: www.starykl
 asztor.com.pl/bilety/\, www.biletin.pl\, www.biletyna.pl\, www.eventim.pl\
 , www.ebilet.pl\, \nrezerwacje: bilety@o2.pl
ATTACH;FMTTYPE=image/jpeg:https://night4u.pl/wp-content/uploads/2019/09/64
 028_image_68453188_2397038930411228_2211935980238143488_o.jpg
CATEGORIES:dolnośląskie
LOCATION:Stary Klasztor\, Purkyniego 1\, Wroclaw\, 50-155\, Poland
GEO:51.110198;17.039162
X-APPLE-STRUCTURED-LOCATION;VALUE=URI;X-ADDRESS=Purkyniego 1\, Wroclaw\, 50
 -155\, Poland;X-APPLE-RADIUS=100;X-TITLE=Stary Klasztor:geo:51.110198,17.0
 39162
END:VEVENT
BEGIN:VTIMEZONE
TZID:Europe/Warsaw
X-LIC-LOCATION:Europe/Warsaw
BEGIN:DAYLIGHT
DTSTART:20190331T030000
TZOFFSETFROM:+0100
TZOFFSETTO:+0200
TZNAME:CEST
END:DAYLIGHT
END:VTIMEZONE
END:VCALENDAR