BEGIN:VCALENDAR
VERSION:2.0
PRODID:-//wp-events-plugin.com//7.2.3.1//EN
TZID:Europe/Warsaw
X-WR-TIMEZONE:Europe/Warsaw
BEGIN:VEVENT
UID:24203@night4u.pl
DTSTART;TZID=Europe/Warsaw:20191109T220000
DTEND;TZID=Europe/Warsaw:20191110T050000
DTSTAMP:20191107T091900Z
URL:https://night4u.pl/wydarzenia/pacha-poznan-presents-pbh-jack/
SUMMARY:Zion Night with PBH &amp\; Jack | Special Event
DESCRIPTION:Już w sobotę 9 listopada wraca do nas fenomenalny duet DJ-sko
  producencki z UK! PBH &amp\; Jack\, którzy swoje autorskie produkcje i r
 emixy wydają w takich światowych markach jak Spinnin\, Hexagon\, Armada\
 , Heldeep! Tym razem przywożą do nas swoją markę ZION!\n\n★ PBH &amp
 \; Jack - Waiting All My Life\nhttps://youtu.be/uGDsy0FEekg\n\n★ PBH &am
 p\; Jack Shizzle - Future Sound\nhttps://youtu.be/SuHXs0BY1m0\n\n★ PBH &
 amp\; Jack Shizzle - I Wanna Know You\nhttps://youtu.be/AjOyUWK1ONY\n\n★
  PBH &amp\; Jack Shizzle - Feel The Music\nhttps://youtu.be/bjEwOXIBrhQ\n\
 n★ PBH &amp\; Jack Shizzle - Ayla\nhttps://youtu.be/qLA8Lst0V5s\n\n★ P
 BH &amp\; Jack Shizzle - Bring The House\nhttps://youtu.be/jgFoPCSWC4Y\n\n
 ★ PBH &amp\; Jack Shizzle x AFISHAL - Genres\nhttps://youtu.be/0EVycKoJY
 4I\n\n★ Loud Luxury - Body (PBH &amp\; Jack Shizzle Remix)\nhttps://yout
 u.be/NOR3OaMs5mQ\n\nSala Główna:\nPBH &amp\; Jack (Special 3 hours show)
 \nTom Forester\n\nSala R'n'B:\nPac1\n\nSala Latino:\nDomi\n\nPanie do 23:0
 0 wchodzą za FREE!\nKarty Klubowe wstęp FREE!\nZapisz się na listę go
 ści http://www.pachapoznan.com/ -&gt\; Imprezy -&gt\; przycisk "Zapisz si
 ę na listę gości"\n\nBilety dostępne w kasie klubu w dniu imprezy od g
 odziny 22:00 w cenie: kobiety 20zł\, mężczyźni 30zł.\nDo wyprzedania 
 w kasie klubu przy ul. Paderewskiego 10 (główne wejście).\nDo każdego 
 zakupionego biletu\, PACHA Poznań zapewnia bezpłatną szatnię. W klubie
  obowiązuje selekcja oraz bezwzględny zakaz żucia gumy. Przed zakupem p
 rosimy o zapoznanie się z regulaminem klubu.
ATTACH;FMTTYPE=image/jpeg:https://night4u.pl/wp-content/uploads/2019/10/57
 036_image_74717147_2638451532886256_5813730481337794560_o.jpg
CATEGORIES:wielkopolskie
LOCATION:Pacha Poznan VIP Club\, Padarewskiego 8\, Poznan\, 61-770\, Poland
GEO:52.407868;16.931441
X-APPLE-STRUCTURED-LOCATION;VALUE=URI;X-ADDRESS=Padarewskiego 8\, Poznan\, 
 61-770\, Poland;X-APPLE-RADIUS=100;X-TITLE=Pacha Poznan VIP Club:geo:52.40
 7868,16.931441
END:VEVENT
BEGIN:VTIMEZONE
TZID:Europe/Warsaw
X-LIC-LOCATION:Europe/Warsaw
BEGIN:STANDARD
DTSTART:20191027T020000
TZOFFSETFROM:+0200
TZOFFSETTO:+0100
TZNAME:CET
END:STANDARD
END:VTIMEZONE
END:VCALENDAR