BEGIN:VCALENDAR
VERSION:2.0
PRODID:-//wp-events-plugin.com//7.2.3.1//EN
TZID:Europe/Warsaw
X-WR-TIMEZONE:Europe/Warsaw
BEGIN:VEVENT
UID:26141@night4u.pl
DTSTART;TZID=Europe/Warsaw:20190929T210000
DTEND;TZID=Europe/Warsaw:20190930T040000
DTSTAMP:20190903T190358Z
URL:https://night4u.pl/wydarzenia/palmowy-dancing-happy-hour-lista-fb-wste
 p-free-do-2200/
SUMMARY:Palmowy Dancing//Happy Hour*//Lista FB Wstęp Free Do 22:00!
DESCRIPTION:29 Września (Niedziela)\n#Rzeszów Klub Pod Palmą \nul. Cicha
  4a\n\n✰#EnglishVersionBelow\n✰Start 21:00\n✔Bilety:\n➡21:00-22:00
  Lista FB Wstęp #FREE (Za Okazaniem Dokumentu Tożsamości). Więc dołą
 cz do #wydarzenia i wejdź za darmo❗\n➡Po 22:00 & Pozostali Wstęp 10 
 PLN\n\n⚡ ⚡ Listę z Facebooka zamykamy 29.09.2019 punktualnie o godzin
 ie 19:00. Osoby które dodadzą się do wydarzenia po tej godzinie nie zos
 taną wpisane już na listę❗ ⚡ ⚡\n▬▬▬▬▬▬▬▬▬▬▬
 ▬▬▬▬▬▬▬▬▬▬▬▬▬▬▬▬▬▬▬▬▬▬\n\nZapr
 aszamy na pierwszy w nowym sezonie #PalmowyDancing❗\nTo wydarzenie już 
 na stałe wpisało się w kalendarz rzeszowskich #imprez♥ a za każdym r
 azem zostawia po sobie inną - nową historię❗ Dołącz do nas i razem 
 z nami buduj kolejną historię - imprezę pamiątkę - o której będzies
 z wspominać bardzo długo\;)\n\n✔Koło godziny 1:00 chusteczka haftowan
 a\nhttp://www.youtube.com/watch?v=BvUiNRKcmBQ\n❏ ❐ ❑ ❒ ❏ ❐ ❑
  ❒ ❏ ❐ ❑ ❒ ❏ ❐ ❑ ❒ ❏ ❐ ❑ ❐ ❑ ❒ ❏ ❐ ❑ 
 ❏ ❐ ❑\n\n★Happy Hour między godziną 21:00 a 22:00 - PIWO LANE 5 
 PLN\n---------------------------------------------------------------------
 -------------------------\n\n>>>>W czasie imprezy:\n✘PIWO BUTELKA: 8 PLN
 \n✘PIWO LANE: 7 PLN\n✘BANIA 25ML: 3 PLN\n✘WÓDKA 0.5L: 60 PLN\n✘NA
 POJE/SOKI 0.2L: 5 PLN\n✘ENERGETYK: 7 PLN\n❏ ❐ ❑ ❒ ❏ ❐ ❑ 
 ❒ ❏ ❐ ❑ ❒ ❏ ❐ ❑ ❒ ❏ ❐ ❑ ❐ ❑ ❒ ❏ ❐ ❑ 
 ❏ ❐ ❑\n\n☝Tak imprezowaliśmy na ostatnim Palmowym Dancingu: http:
 //www.facebook.com/podpalma/photos_stream?tab=photos_albums\n\n❊Loża 30
  PLN\n☎Rezerwacja lóż pod numerem (17) 872 39 52\, od poniedziałku do
  piątku między 9.00 a 17.00. Rezerwacja loży ważna jest przez 1 h od m
 omentu rozpoczęcia się danej imprezy❗\n\n♪Palmowy Dancing to jedyna 
 taka #studencka impreza w mieście. Najlepsze ♫#Retro #Disco #DiscoPolo 
 oraz stare polskie przeboje...\nO niepowtarzalne dancingowe hity zadba ♪
 DJ #Tommy❗\n❏ ❐ ❑ ❒ ❏ ❐ ❑ ❒ ❏ ❐ ❑ ❒ ❏ ❐ ❑ 
 ❒ ❏ ❐ ❑ ❐ ❑ ❒ ❏ ❐ ❑❏ ❐ ❑\n\n★★★WE'RE OPEN 
 FROM 9 PM★ ★★\n\n#ENTRANCE⤵⤵⤵\n✔People from Facebook list ('
 Attending') - FREE ENTRY till 10 pm. \n✔Facebook list will be closed in 
 a party day at 7 pm. \n✔Others - Tickets 10 PLN!\n\n✘Happy Hours 9 pm 
 till 10 pm - draft beer 5 PLN!\n▬▬▬▬▬▬▬▬▬▬▬▬▬▬
 ▬▬▬▬▬▬▬▬▬▬▬▬▬▬▬▬▬▬▬▬
ATTACH;FMTTYPE=image/jpeg:https://night4u.pl/wp-content/uploads/2019/09/61
 149_image_70392087_2496055423774033_5537090400851853312_n.jpg
CATEGORIES:podkarpackie
LOCATION:Pod Palmą\, Cicha4a\, Rzeszów\, 35-326\, Poland
GEO:50.01652;22.00478
X-APPLE-STRUCTURED-LOCATION;VALUE=URI;X-ADDRESS=Cicha4a\, Rzeszów\, 35-326
 \, Poland;X-APPLE-RADIUS=100;X-TITLE=Pod Palmą:geo:50.01652,22.00478
END:VEVENT
BEGIN:VTIMEZONE
TZID:Europe/Warsaw
X-LIC-LOCATION:Europe/Warsaw
BEGIN:DAYLIGHT
DTSTART:20190331T030000
TZOFFSETFROM:+0100
TZOFFSETTO:+0200
TZNAME:CEST
END:DAYLIGHT
END:VTIMEZONE
END:VCALENDAR