BEGIN:VCALENDAR
VERSION:2.0
PRODID:-//wp-events-plugin.com//7.2.3.1//EN
TZID:Europe/Warsaw
X-WR-TIMEZONE:Europe/Warsaw
BEGIN:VEVENT
UID:24043@night4u.pl
DTSTART;TZID=Europe/Warsaw:20191207T200000
DTEND;TZID=Europe/Warsaw:20191207T235900
DTSTAMP:20191206T174349Z
URL:https://night4u.pl/wydarzenia/paluch-%e2%80%a2-czerwony-dywan-%e2%80%a
 2-radom-07-12-2019/
SUMMARY:Paluch • Czerwony Dywan • Radom 07.12.2019
DESCRIPTION:Agencja Muzyczno-Eventowa Bashesh oraz Klub Strefa G2 z ogromn
 ą przyjemnością zapraszają na koncert Paluch Oficjalnie\, promujący j
 ego najnowszy album „Czerwony Dywan“\, który odbędzie się 07.12.201
 9. w Radomiu. \n\nStart: 20:00\nMiejsce: Klub Strefa G2\, ul. Przemysłowa
  20\, Radom\n\nBilety: od 40 PLN\n\nPrzedsprzedaż:\n•	Biletomat.pl - bi
 lety online – https://www.biletomat.pl/hip-hop-reggae/paluch-radom-8330/
 \n\nSupport:\nKVBX\nAzus\n\nWydarzenie na FB: https://www.facebook.com/eve
 nts/2381847078729159/\n\nOsoby niepełnoletnie\, które nie ukończyły 18
  lat powinny mieć ze sobą pisemną zgodę opiekunów prawnych. Osoby\, k
 tóre nie ukończyły 16 lat mogę wejść tylko z opiekunem prawnym lub o
 sobą pisemnie upoważnioną. Opiekun również musi posiadać bilet. \nWz
 ór zgody: https://bashesh.com/uploads/zgoda.png\n\nBilet upoważnia do je
 dnorazowego wstępu na teren imprezy.\nBilety należy kupować tylko w aut
 oryzowanych punktach sprzedaży.\nGodziny podane na bilecie i plakacie mog
 ą ulec zmianie.\nStart imprezy oznacza godzinę o której rozpoczynamy wp
 uszczanie ludzi do klubu\, nie jest on tożsamy ze startem koncertu głów
 nego wykonawcy.\n\nCzerwony Dywan to trzynasty solowy album Palucha. Krą
 żek zaledwie trzy tygodnie po premierze okrył się podwójną platyną! 
 Lirycznie w dużej mierze album skupia się na świecie showbiznesu i wsze
 chobecnej potrzebie atencji\, która występuje już nie tylko wśród kol
 egów z branży ale dotyczy całego dzisiejszego pokolenia. Nie zabraknie 
 jednak lżejszych numerów takich singlowa "Spłata" na bicie Julasa czy o
 siedlowych bengerów jak teledyskowy "Mój Kościół" produkcji APmg.\n\n
 Chcesz być z nami w kontakcie zapraszamy do naszej grupy:\nGrupa Bashesh 
 - backstage koncertowy\n\nWięcej informacji: \n\nhttps://www.facebook.com
 /bashesh\nhttps://www.facebook.com/PaluchOfficial\nwww.bashesh.com
ATTACH;FMTTYPE=image/jpeg:https://night4u.pl/wp-content/uploads/2019/08/56
 696_image_67513180_2473914219339256_1245988979145179136_o.jpg
CATEGORIES:mazowieckie
LOCATION:Klub Strefa G2\, ul. Przemysłowa 20\, Radom\, 26-610\, Poland
GEO:51.389137;21.149025
X-APPLE-STRUCTURED-LOCATION;VALUE=URI;X-ADDRESS=ul. Przemysłowa 20\, Radom
 \, 26-610\, Poland;X-APPLE-RADIUS=100;X-TITLE=Klub Strefa G2:geo:51.389137
 ,21.149025
END:VEVENT
BEGIN:VTIMEZONE
TZID:Europe/Warsaw
X-LIC-LOCATION:Europe/Warsaw
BEGIN:STANDARD
DTSTART:20191027T020000
TZOFFSETFROM:+0200
TZOFFSETTO:+0100
TZNAME:CET
END:STANDARD
END:VTIMEZONE
END:VCALENDAR