BEGIN:VCALENDAR
VERSION:2.0
PRODID:-//wp-events-plugin.com//7.2.3.1//EN
TZID:Europe/Warsaw
X-WR-TIMEZONE:Europe/Warsaw
BEGIN:VEVENT
UID:27852@night4u.pl
DTSTART;TZID=Europe/Warsaw:20190917T200000
DTEND;TZID=Europe/Warsaw:20190917T220000
DTSTAMP:20190916T211530Z
URL:https://night4u.pl/wydarzenia/panel-hydrofobiczny-2/
SUMMARY:Panel hydrofobiczny #2
DESCRIPTION:Nudzą Cię zwykłe teleturnieje i konkursy? Masz dosyć prosty
 ch i sztampowych pytań?\nWYMYŚL JE SAM/A! Poczuj się jak Tadeusz Sznuk 
 z Jeden z Dziesięciu i wymyśl przewrotne pytanie do wymyślonej przez wi
 dzów odpowiedzi z danej kategorii. To nic trudnego! Im bardziej suche pyt
 anie tym lepsze!\nKancelaria Stand-Upu Burewicz & Natkaniec organizuje u n
 as wieczór suchych pytań. Panel będzie poprowadzony przez najbardziej w
 ysuszone dusze w Poznaniu. To nie jest byle opowiadanie żartów\, ludzie 
 będą się suszyć nawzajem. Najważniejszym punktem posiedzenia jest to\
 , że będziecie mogli w nim uczestniczyć\, podrzucając słowa-odpowiedz
 i. Dla najbardziej włączonych w dyskusję oferujemy nektar zwalczający 
 suchość!
ATTACH;FMTTYPE=image/jpeg:https://night4u.pl/wp-content/uploads/2019/09/64
 744_image_70122472_480289809369090_3582117061188386816_n.jpg
CATEGORIES:wielkopolskie
LOCATION:Amore del Tropico\, Ratajczaka 26/2\, Poznan\, 61-815\, Poland
GEO:52.405425;16.925737
X-APPLE-STRUCTURED-LOCATION;VALUE=URI;X-ADDRESS=Ratajczaka 26/2\, Poznan\, 
 61-815\, Poland;X-APPLE-RADIUS=100;X-TITLE=Amore del Tropico:geo:52.405425
 ,16.925737
END:VEVENT
BEGIN:VTIMEZONE
TZID:Europe/Warsaw
X-LIC-LOCATION:Europe/Warsaw
BEGIN:DAYLIGHT
DTSTART:20190331T030000
TZOFFSETFROM:+0100
TZOFFSETTO:+0200
TZNAME:CEST
END:DAYLIGHT
END:VTIMEZONE
END:VCALENDAR