BEGIN:VCALENDAR
VERSION:2.0
PRODID:-//wp-events-plugin.com//7.2.3.1//EN
TZID:Europe/Warsaw
X-WR-TIMEZONE:Europe/Warsaw
BEGIN:VEVENT
UID:4475@night4u.pl
DTSTART;TZID=Europe/Warsaw:20190125T210000
DTEND;TZID=Europe/Warsaw:20190126T040000
DTSTAMP:20190120T192042Z
URL:https://night4u.pl/wydarzenia/party-30-kultowa-impreza-dla-dojrzalej-m
 lodziezy-2/
SUMMARY:Party 30+ | Kultowa impreza dla dojrzałej młodzieży!
DESCRIPTION:Kolejny piątek z Party 30+! Idealna impreza\, by zrelaksować 
 się przy najlepszej muzyce i drinku!\n\n- Do klubu zapraszamy tylko osoby
  powyżej 26 roku życia (zaostrzona selekcja!)\n\n- Oprawa muzyczna rodem
  z najlepszych dancingów! Niezapomniane hity i niezniszczalne szlagiery k
 tóre dumnie brzmiały w niejednej szafie grającej. Nie obędzie się tak
 że bez najnowszych i równie tanecznych utworów\, dla każdego coś dobr
 ego!\n- Profesjonalną ochronę zapewni: www.astrea-ochrona.pl\n\n--------
 -------\n\nZapraszamy do polubienia facebook'owej strony imprezy: Party 30
 +\n\nREZERWACJE STOLIKÓW: 515 231 518
ATTACH;FMTTYPE=image/jpeg:https://night4u.pl/wp-content/uploads/2019/01/14
 815_image_50405240_10158106718364992_747953333234302976_n.jpg
CATEGORIES:łódzkie
LOCATION:Drugi Dom\, Mickiewicza 11\, Skierniewice\, 96-100\, Poland
GEO:51.96839;20.156641
X-APPLE-STRUCTURED-LOCATION;VALUE=URI;X-ADDRESS=Mickiewicza 11\, Skierniewi
 ce\, 96-100\, Poland;X-APPLE-RADIUS=100;X-TITLE=Drugi Dom:geo:51.96839,20.
 156641
END:VEVENT
BEGIN:VTIMEZONE
TZID:Europe/Warsaw
X-LIC-LOCATION:Europe/Warsaw
BEGIN:STANDARD
DTSTART:20181028T020000
TZOFFSETFROM:+0200
TZOFFSETTO:+0100
TZNAME:CET
END:STANDARD
END:VTIMEZONE
END:VCALENDAR