BEGIN:VCALENDAR
VERSION:2.0
PRODID:-//wp-events-plugin.com//7.2.3.1//EN
TZID:Europe/Warsaw
X-WR-TIMEZONE:Europe/Warsaw
BEGIN:VEVENT
UID:30595@night4u.pl
DTSTART;TZID=Europe/Warsaw:20191018T220000
DTEND;TZID=Europe/Warsaw:20191019T040000
DTSTAMP:20191018T021639Z
URL:https://night4u.pl/wydarzenia/party-hard-proxima-2/
SUMMARY:PARTY HARD / Proxima
DESCRIPTION:W repertuarze imprezy m.in.:\nSYSTEM OF A DOWN\, MARILYN MANSON
 \, RAMMSTEIN\, LINKIN PARK\, DISTURBED\, KORN\, SLIPKNOT\, LIMP BIZKIT\, R
 AGE AGAINST THE MACHINE\, METALLICA\, NIRVANA\, OFFSPRING\, PAPA ROACH\, P
 RODIGY\, RED HOT CHILLI PEPPERS\, PEARL JAM\, ALICE IN CHAINS\, GUANO APES
 \, FIVE FINGER DEATH PUNCH\, DEFTONES\, TOOL i wiele innych.\n\n**\n\nProx
 ima\, Żwirki i Wigury 99a\n\npiątek\, 18 października\n\ngodz. 22\n\nHa
 ppy Hour 22-23: piwo 5pln\n\nWstęp: \n10pln – lista FB \n15pln – pozo
 stali \nAby zapewnić sobie wejściówkę w cenie 10pln wystarczy oznaczy
 ć się na stronie wydarzenia jako osoba biorąca udział do godz.18 w dni
 u imprezy.\n\n** \n\nZapraszają:\n\n\nHOLERNA ZUOŚĆ\nhttps://www.facebo
 ok.com/holernazuosc\n\nPROXIMA\nhttp://www.klubproxima.com.pl
ATTACH;FMTTYPE=image/jpeg:https://night4u.pl/wp-content/uploads/2019/10/70
 546_image_71857248_1416394858519663_508981391539568640_o.jpg
CATEGORIES:mazowieckie
LOCATION:Klub Proxima\, ul. Żwirki i Wigury 99a\, Warsaw\, 02-089\, Poland
GEO:52.212586;20.98704
X-APPLE-STRUCTURED-LOCATION;VALUE=URI;X-ADDRESS=ul. Żwirki i Wigury 99a\, 
 Warsaw\, 02-089\, Poland;X-APPLE-RADIUS=100;X-TITLE=Klub Proxima:geo:52.21
 2586,20.98704
END:VEVENT
BEGIN:VTIMEZONE
TZID:Europe/Warsaw
X-LIC-LOCATION:Europe/Warsaw
BEGIN:DAYLIGHT
DTSTART:20190331T030000
TZOFFSETFROM:+0100
TZOFFSETTO:+0200
TZNAME:CEST
END:DAYLIGHT
END:VTIMEZONE
END:VCALENDAR