BEGIN:VCALENDAR
VERSION:2.0
PRODID:-//wp-events-plugin.com//7.2.3.1//EN
TZID:Europe/Warsaw
X-WR-TIMEZONE:Europe/Warsaw
BEGIN:VEVENT
UID:18976@night4u.pl
DTSTART;TZID=Europe/Warsaw:20190615T210000
DTEND;TZID=Europe/Warsaw:20190616T060000
DTSTAMP:20190611T180517Z
URL:https://night4u.pl/wydarzenia/party-like-a-rockstar-15-06-do-2200-wejs
 cie-free/
SUMMARY:Party like a Rockstar // 15.06 // Do 22:00 wejście free
DESCRIPTION:Co tydzień rozkręcamy najgrubsze melanże w mieście! Wbijaj 
 w sobotę do Helium i zabaw się jak gwiazda rocka! Tak jakby jutra miało
  nie być! \n\nZagrają MYROS x MATT HOUSE!\n\n⭐️ SOBOTA ⭐️\n\n➡
 ️Start 21:00\n➡️Do 22:00 - wejście free\n➡️22:00-23:00 - 10zł\
 n➡️Po 23:00 - 15zł\n\nBilet wstępu obowiązuje do lokali:\nHelium Cl
 ub\nRzut Beretem\nEl Cubano\nRIVIERA\n\nseats & tables/ rezerwacje stolik
 ów\n☎️: 725700205 (wt-sob. 17:00-20:00)\nWejście 18+ / DOOR SELECTIO
 N
ATTACH;FMTTYPE=image/jpeg:https://night4u.pl/wp-content/uploads/2019/06/45
 893_image_62214363_2345129569095545_6930514809720930304_o.jpg
CATEGORIES:lubelskie
LOCATION:Helium Club\, Hempla 5\, Lublin\, 20-008\, Poland
GEO:51.24548;22.55754
X-APPLE-STRUCTURED-LOCATION;VALUE=URI;X-ADDRESS=Hempla 5\, Lublin\, 20-008\
 , Poland;X-APPLE-RADIUS=100;X-TITLE=Helium Club:geo:51.24548,22.55754
END:VEVENT
BEGIN:VTIMEZONE
TZID:Europe/Warsaw
X-LIC-LOCATION:Europe/Warsaw
BEGIN:DAYLIGHT
DTSTART:20190331T030000
TZOFFSETFROM:+0100
TZOFFSETTO:+0200
TZNAME:CEST
END:DAYLIGHT
END:VTIMEZONE
END:VCALENDAR