BEGIN:VCALENDAR
VERSION:2.0
PRODID:-//wp-events-plugin.com//7.2.3.1//EN
TZID:Europe/Warsaw
X-WR-TIMEZONE:Europe/Warsaw
BEGIN:VEVENT
UID:48205@night4u.pl
DTSTART;TZID=Europe/Warsaw:20200221T210000
DTEND;TZID=Europe/Warsaw:20200222T030000
DTSTAMP:20200222T004110Z
URL:https://night4u.pl/wydarzenia/party-shot-disco-polo-klub-bialystok/
SUMMARY:Party SHOT! Disco Polo Klub - Białystok
DESCRIPTION:❤️❤️❤️❤️❤️❤️\nParty SHot! - Disco Polo 
 Klub\n🥰 🥰 🥰 🥰 🥰\n\n\nPIĄTEK! 🔥\n21.02.2020!! \nDo 23.00
  SHOTY 1zł! &lt\;3 \n\n🍹 Start:\n 21:00 🔥
ATTACH;FMTTYPE=image/jpeg:https://night4u.pl/wp-content/uploads/2020/02/16
 2729_image_87271803_1229407097251311_5075282018103721984_o.jpg
CATEGORIES:podlaskie
LOCATION:DiscoPolo Klub\, Legionowa 14/16\, Białystok\, 15-099\, Poland
GEO:53.13039;23.15857
X-APPLE-STRUCTURED-LOCATION;VALUE=URI;X-ADDRESS=Legionowa 14/16\, Białysto
 k\, 15-099\, Poland;X-APPLE-RADIUS=100;X-TITLE=DiscoPolo Klub:geo:53.13039
 ,23.15857
END:VEVENT
BEGIN:VTIMEZONE
TZID:Europe/Warsaw
X-LIC-LOCATION:Europe/Warsaw
BEGIN:STANDARD
DTSTART:20191027T020000
TZOFFSETFROM:+0200
TZOFFSETTO:+0100
TZNAME:CET
END:STANDARD
END:VTIMEZONE
END:VCALENDAR