BEGIN:VCALENDAR
VERSION:2.0
PRODID:-//wp-events-plugin.com//7.2.3.1//EN
TZID:Europe/Warsaw
X-WR-TIMEZONE:Europe/Warsaw
BEGIN:VEVENT
UID:34539@night4u.pl
DTSTART;TZID=Europe/Warsaw:20191119T180000
DTEND;TZID=Europe/Warsaw:20191120T010000
DTSTAMP:20191119T105549Z
URL:https://night4u.pl/wydarzenia/party-tonight-19-11-2019-rin-music-club/
SUMMARY:Party Tonight // 19.11.2019 // RIN music club
DESCRIPTION:ENGLISH VERSION BELOW // www.where2b.org/RinMusicClub\n\nKontyn
 uujemy cykl imprez pod hasłem PARTY TONIGHT!\nRazem z nami będziecie mog
 li cieszyć się najlepszą muzyką i pysznymi drinkami przyrządzanymi pr
 zez naszych barmanów.\n\nNiepowtarzalna atmosfera\, wspaniałe drinki ora
 z specjalne promocje to gwarancja na udaną imprezę na Szewskiej 14!\n\nP
 romocje:\n- Grzane wino: 10 zł\n- Martini + 7up: 10 zł\,\n- Jim Beam + P
 epsi: 10 zł.\n- Cytrynówka 40ml: 5 zł\n\nRezerwacja: kontakt@rinclub.pl
  / 608 399 538 / 12 422 25 79\nRIN your place\, music &amp\; party…\n\n/
 ENGLISH VERSION/\n\nWe continue the cycleof events under the slogan PARTY 
 TONIGHT!\nTogether with us you will be able to enjoy the best music and de
 licious drinks made by our bartenders.\n\nThe unique atmosphere\, great dr
 inks and special promotions guarantee a successful event at Szewska 14!\n\
 nPromotion:\n- Mulled Wine – 10 pln\n- Martini + 7up: 10 pln\n- Jim Beam
  + Pepsi: 10 pln\n- Lemon Vodka 40ml: 5 pln\n\nReservation: kontakt@rinclu
 b.pl / 608 399 538/12 422 25 79\nRIN your place\, music &amp\; party…
ATTACH;FMTTYPE=image/jpeg:https://night4u.pl/wp-content/uploads/2019/11/89
 263_image_77025542_2830132790339157_7749113478731792384_n.jpg
CATEGORIES:małopolskie
LOCATION:RIN music club\, ul. Szewska 14\, Kraków\, 31-009\, Poland
GEO:50.062663;19.934545
X-APPLE-STRUCTURED-LOCATION;VALUE=URI;X-ADDRESS=ul. Szewska 14\, Kraków\, 
 31-009\, Poland;X-APPLE-RADIUS=100;X-TITLE=RIN music club:geo:50.062663,19
 .934545
END:VEVENT
BEGIN:VTIMEZONE
TZID:Europe/Warsaw
X-LIC-LOCATION:Europe/Warsaw
BEGIN:STANDARD
DTSTART:20191027T020000
TZOFFSETFROM:+0200
TZOFFSETTO:+0100
TZNAME:CET
END:STANDARD
END:VTIMEZONE
END:VCALENDAR