BEGIN:VCALENDAR
VERSION:2.0
PRODID:-//wp-events-plugin.com//7.2.3.1//EN
TZID:Europe/Warsaw
X-WR-TIMEZONE:Europe/Warsaw
BEGIN:VEVENT
UID:47173@night4u.pl
DTSTART;TZID=Europe/Warsaw:20200229T210000
DTEND;TZID=Europe/Warsaw:20200301T040000
DTSTAMP:20200331T141742Z
URL:https://night4u.pl/wydarzenia/partyrock-essence/
SUMMARY:Partyrock Essence
DESCRIPTION:Czy on jest szalony? Chyba trochę. Zapraszamy was na imprezę 
 prowadzoną przez największego szaleńca Wrocławskich klubów czyli DJ-a
  Liquida. Będzie głośno!
ATTACH;FMTTYPE=image/jpeg:https://night4u.pl/wp-content/uploads/2020/02/15
 7361_image_86332296_3015560198474756_6417209455561146368_o.jpg
CATEGORIES:dolnośląskie
LOCATION:PUB Schody Donikąd\, Plac Solny 13\, Wroclaw\, 50-061\, Poland
GEO:51.10906;17.02869
X-APPLE-STRUCTURED-LOCATION;VALUE=URI;X-ADDRESS=Plac Solny 13\, Wroclaw\, 5
 0-061\, Poland;X-APPLE-RADIUS=100;X-TITLE=PUB Schody Donikąd:geo:51.10906
 ,17.02869
END:VEVENT
BEGIN:VTIMEZONE
TZID:Europe/Warsaw
X-LIC-LOCATION:Europe/Warsaw
BEGIN:STANDARD
DTSTART:20191027T020000
TZOFFSETFROM:+0200
TZOFFSETTO:+0100
TZNAME:CET
END:STANDARD
END:VTIMEZONE
END:VCALENDAR