BEGIN:VCALENDAR
VERSION:2.0
PRODID:-//wp-events-plugin.com//7.2.3.1//EN
TZID:Europe/Warsaw
X-WR-TIMEZONE:Europe/Warsaw
BEGIN:VEVENT
UID:10376@night4u.pl
DTSTART;TZID=Europe/Warsaw:20190323T203000
DTEND;TZID=Europe/Warsaw:20190324T040000
DTSTAMP:20190317T005706Z
URL:https://night4u.pl/wydarzenia/paryska-noc-x-paris-platynov/
SUMMARY:Paryska Noc x Paris Platynov
DESCRIPTION:Legendy głoszą\, że pewien Krakowski Wirtuoz wiolonczeli\, c
 złowiek wielu talentów\, zapoczątkował nową kulturę.\n\nTo on nauczy
 ł Jackie Chana jak zrobić wszystkie pompki. ?\n\nPewnie już się domyś
 lacie\, że chodzi nam o jedynego w swoim rodzaju Parisa Platynova  ??\n\n
 23.03 tej nocy Wrocław zostanie ochrzczony. Krakowski imperator rozpoczni
 e swoją trasę imprezowa w nowym klubie One Love. ?\n\nKlepcie tą datę 
 w swoich notesikach\, kalendarzach\, weź kumpla i zapisz mu ją na czole.
   ✅\n\nSłowo impreza pod szyldem Patrona JUK przemieni się o 180 stopn
 i jak restauracja po rewolucjach Magdy Gessler. ? \n\nTa noc będzie nasza
 \, ta noc to Paryska Noc  ?\n\n\n? Kiedy - 23.03\n? Gdzie - Klub One Love\
 n? Wstęp - \n? Dj - Soon\n? Bilety - Soon\n\n\n❣ Nasi promotorzy\, u kt
 órych kupicie bilety stacjonarnie ❣\n\n?‍♀ Asia Looze\n?‍♀ Beat
 a Walkowiak\n?‍♀ Jennifer Kolanek\n?‍♀ Klaudia Kobylańska\n?‍
 ♀ Paulina Kuriata\n?‍♀ Weronika Grzesińska\n?‍♀ Wiktoria Gałec
 ka\n\n?‍♂ Kuba Czekaj\n?‍♂ Michał Dominiczak\n?‍♂ Michał Szt
 ama\n?‍♂ Tymoteusz Kłys\n?‍♂ Wojtek Gardecki
ATTACH;FMTTYPE=image/jpeg:https://night4u.pl/wp-content/uploads/2019/03/27
 379_image_51812038_314338899217258_7722890530136260608_o.jpg
CATEGORIES:dolnośląskie
LOCATION:One Love Wrocław\, Ofiar Oświęcimskich 36\, Wroclaw\, 50-059\, 
 Poland
GEO:51.108;17.03431
X-APPLE-STRUCTURED-LOCATION;VALUE=URI;X-ADDRESS=Ofiar Oświęcimskich 36\, 
 Wroclaw\, 50-059\, Poland;X-APPLE-RADIUS=100;X-TITLE=One Love Wrocław:geo
 :51.108,17.03431
END:VEVENT
BEGIN:VTIMEZONE
TZID:Europe/Warsaw
X-LIC-LOCATION:Europe/Warsaw
BEGIN:STANDARD
DTSTART:20181028T020000
TZOFFSETFROM:+0200
TZOFFSETTO:+0100
TZNAME:CET
END:STANDARD
END:VTIMEZONE
END:VCALENDAR